BEGIN:VCALENDAR
VERSION:2.0
PRODID:-//ChamberMaster//Event Calendar 2.0//EN
METHOD:PUBLISH
X-PUBLISHED-TTL:P3D
REFRESH-INTERVAL:P3D
CALSCALE:GREGORIAN
BEGIN:VEVENT
DTSTART:20181003T000000Z
DTEND:20181003T020000Z
X-MICROSOFT-CDO-ALLDAYEVENT:FALSE
SUMMARY:Solstice Senior Living Taco Tuesday at Tin Room Bar
DESCRIPTION:Join us for our Taco Tuesday. Tacos margaritas and networking where eclectic crowds of friendly neighbors gather to lift a glass and a fork. There will multiple representatives from small businesses\, big business and nonprofit all local. Take an hour or two to enjoy yourself and make connections while eating/drinking on us! Limited to 30 guests.
X-ALT-DESC;FMTTYPE=text/html:<span style="color:#333333\;"><span style="font-family:arial nova\,sans-serif\;"><span style="font-size:14.0pt\;">Join us for our Taco Tuesday. Tacos margaritas and networking where eclectic crowds of friendly neighbors gather to lift a glass and a fork. There will multiple representatives from small businesses\, big business and nonprofit all local. Take an hour or two to enjoy yourself and make connections while eating/drinking on us! Limited to 30 guests.</span></span></span>
LOCATION:Tin Room Bar 923 SW 152nd St. Burien\, Washington 98166
UID:e.2591.2553
SEQUENCE:3
DTSTAMP:20260424T185658Z
URL:http://seattlesouthsidechamber.com/events/details/solstice-senior-living-taco-tuesday-at-tin-room-bar-2553
END:VEVENT

END:VCALENDAR
