BEGIN:VCALENDAR
VERSION:2.0
PRODID:-//ChamberMaster//Event Calendar 2.0//EN
METHOD:PUBLISH
X-PUBLISHED-TTL:P3D
REFRESH-INTERVAL:P3D
CALSCALE:GREGORIAN
BEGIN:VEVENT
DTSTART:20170210T000000Z
DTEND:20170210T003000Z
X-MICROSOFT-CDO-ALLDAYEVENT:FALSE
SUMMARY:Skinperfect Grand Re-Opening & Ribbon Cutting
DESCRIPTION:Skinperfect Aesthetics has moved to a new location! We are celebrating their grand re-opening with a ribbon cutting at February 9th at 4pm. Come see the new space\, and be entered into a drawing for an IPL treatment from Skinperfect.\n\n\n\nSkinperfect was founded by Chamber Board Member\, Darla Green who is a Licensed Master Aesthetician and Educator with over 20 years in the professional makeup and skincare industry
X-ALT-DESC;FMTTYPE=text/html:<span style="font-size:14px\;"><span style="font-family:arial\;">Skinperfect Aesthetics has moved to a new location! We are celebrating their grand re-opening with a ribbon cutting at February 9th at 4pm. Come see the new space\, and be entered into a drawing for an IPL treatment from Skinperfect.<br />\n<br />\nSkinperfect was founded by Chamber Board Member\, Darla Green who is a Licensed Master Aesthetician and Educator with over 20 years in the professional makeup and skincare industry</span></span>
LOCATION:Skinperfect Aesthetics is located at 636 SW 152nd ST STE D Burien\, WA 98166
UID:e.2591.595
SEQUENCE:3
DTSTAMP:20260426T014359Z
URL:http://seattlesouthsidechamber.com/events/details/skinperfect-grand-re-opening-ribbon-cutting-595
END:VEVENT

END:VCALENDAR
