BEGIN:VCALENDAR
VERSION:2.0
PRODID:-//ChamberMaster//Event Calendar 2.0//EN
METHOD:PUBLISH
X-PUBLISHED-TTL:P3D
REFRESH-INTERVAL:P3D
CALSCALE:GREGORIAN
BEGIN:VEVENT
DTSTART:20181004T230000Z
DTEND:20181005T020000Z
X-MICROSOFT-CDO-ALLDAYEVENT:FALSE
SUMMARY:SHAG Tukwila Village VIP Event
DESCRIPTION:Mosey on over and join the SHAG Tukwila Village in a celebration for their newest community. Kick up your boots and enjoy tasty treats\, live music and our specialty drink "The Cowboy Cocktail!"
X-ALT-DESC;FMTTYPE=text/html:Mosey on over and join the SHAG Tukwila Village in a celebration for their newest community. Kick up your boots and enjoy tasty treats\, live music and our specialty drink &quot\;The Cowboy Cocktail!&quot\;
LOCATION:Sullivan Community Center 14350 Tukwila International Blvd Tukwila\, WA 98168
UID:e.2591.2544
SEQUENCE:3
DTSTAMP:20260424T203346Z
URL:http://seattlesouthsidechamber.com/events/details/shag-tukwila-village-vip-event-2544
END:VEVENT

END:VCALENDAR
