BEGIN:VCALENDAR
VERSION:2.0
PRODID:-//ChamberMaster//Event Calendar 2.0//EN
METHOD:PUBLISH
X-PUBLISHED-TTL:P3D
REFRESH-INTERVAL:P3D
CALSCALE:GREGORIAN
BEGIN:VEVENT
DTSTART:20180928T163000Z
DTEND:20180928T183000Z
X-MICROSOFT-CDO-ALLDAYEVENT:FALSE
SUMMARY:Shag Tukwila Pancake Breakfast
DESCRIPTION:Enjoy breakfast on us and tour our newest community\, Tukwila Village
X-ALT-DESC;FMTTYPE=text/html:Enjoy breakfast on us and tour our newest community\, Tukwila Village
LOCATION:SULLIVAN COMMUNITY CENTER (Across from SHAG's Tukwila Village) 14350 Tukwila International Blvd Tukwila WA 98168
UID:e.2591.2513
SEQUENCE:3
DTSTAMP:20260424T220524Z
URL:http://seattlesouthsidechamber.com/events/details/shag-tukwila-pancake-breakfast-2513
END:VEVENT

END:VCALENDAR
