BEGIN:VCALENDAR
VERSION:2.0
PRODID:-//ChamberMaster//Event Calendar 2.0//EN
METHOD:PUBLISH
X-PUBLISHED-TTL:P3D
REFRESH-INTERVAL:P3D
CALSCALE:GREGORIAN
BEGIN:VEVENT
DTSTART:20181021T210000Z
DTEND:20181021T213500Z
X-MICROSOFT-CDO-ALLDAYEVENT:FALSE
SUMMARY:Seattle Symphony Community Concert in Tukwila: Shostakovich\, Ravel\, Saunders-Sullivan Event Center at Tukwila Village
DESCRIPTION:The Seattle Symphony in your neighborhood. Several ensemble groups from the Seattle Symphony will be performing in Tukwila at the Sullivan Event Center at Tukwila Village.
X-ALT-DESC;FMTTYPE=text/html:<span style="font-family:calibri\,sans-serif\;"><span style="font-size:11.0pt\;">The Seattle Symphony in your neighborhood. Several ensemble groups from the Seattle Symphony will be performing in Tukwila at the Sullivan Event Center at Tukwila Village.</span></span>
LOCATION:Sullivan Center at Tukwila Village 14350 Tukwila International Blvd. Tukwila\, WA 98168
UID:e.2591.2580
SEQUENCE:3
DTSTAMP:20260424T185935Z
URL:http://seattlesouthsidechamber.com/events/details/seattle-symphony-community-concert-in-tukwila-shostakovich-ravel-saunders-sullivan-event-center-at-tukwila-village-2580
END:VEVENT

END:VCALENDAR
