BEGIN:VCALENDAR
VERSION:2.0
PRODID:-//ChamberMaster//Event Calendar 2.0//EN
METHOD:PUBLISH
X-PUBLISHED-TTL:P3D
REFRESH-INTERVAL:P3D
CALSCALE:GREGORIAN
BEGIN:VEVENT
DTSTART:20181214T193000Z
DTEND:20181214T210000Z
X-MICROSOFT-CDO-ALLDAYEVENT:FALSE
SUMMARY:Seattle Southside Chamber Annual Holiday Luncheon
DESCRIPTION:Join us at the Chamber's Annual Holiday Luncheon at the Rainier Golf & Country Club! Be sure to wear your "Ugly Christmas sweater" for a contest. \n\nLunch will be served at noon and the event will conclude by 1pm.\n\n\n\nJoin us as we celebrate the Chamber board\, leadership and future of the organization.\n\n\n\nThank you to our Event Sponsors Crain Photography\, Louise Strander\, and Camille Patha. Thank you to our Media Sponsor South King Media. \n\n\n\nPlease indicate whether or not you would like the vegetarian option on your registration.
X-ALT-DESC;FMTTYPE=text/html:<span style="font-size:16px\;"><span style="font-family:arial\;">Join us at the Chamber&#39\;s Annual Holiday Luncheon at the Rainier Golf &amp\; Country Club! Be sure to wear your &quot\;Ugly Christmas sweater&quot\; for a contest.&nbsp\;<br />\nLunch will be served at noon and the event will conclude by 1pm.<br />\n<br />\nJoin us as we celebrate the Chamber board\, leadership and future of the organization.<br />\n<br />\nThank you to our Event Sponsors Crain Photography\, Louise Strander\, and Camille Patha. Thank you to our Media Sponsor South King Media.&nbsp\;<br />\n<br />\n<strong>Please indicate whether or not you would like the vegetarian option on your registration.</strong></span></span><br />\n&nbsp\;
LOCATION:Rainier Golf & Country Club 11133 Des Moines Memorial Drive South Seattle\, WA 98168
UID:e.2591.1073
SEQUENCE:3
DTSTAMP:20260424T124533Z
URL:http://seattlesouthsidechamber.com/events/details/seattle-southside-chamber-annual-holiday-luncheon-1073
END:VEVENT

END:VCALENDAR
