BEGIN:VCALENDAR
VERSION:2.0
PRODID:-//ChamberMaster//Event Calendar 2.0//EN
METHOD:PUBLISH
X-PUBLISHED-TTL:P3D
REFRESH-INTERVAL:P3D
CALSCALE:GREGORIAN
BEGIN:VEVENT
DTSTART:20171119T040000Z
DTEND:20171119T100000Z
X-MICROSOFT-CDO-ALLDAYEVENT:FALSE
SUMMARY:Seattle Pancakes & Booze Art Show
DESCRIPTION:To create the perfect fall fun recipe add in a pinch of art\, a dash of boozy shenanigans\, and top it off with stacks upon stacks of fluffy\, golden pancakes. The Seattle Pancakes & Booze Art Show brings together the culture of a fall arts festival with delicious breakfast food\, live music\, and copious amounts of adult beverages. This 21-and-older street fest is brimming with things to do. Whether you gorge yourself on the free flapjacks\, check out the underground art show\, or participate in body painting\, you are sure to have a great time while attending this Seattle street party. https://www.vacationsmadeeasy.com/TheBLT/20AutumnArtsFestivalsinWashingtonYouWontWanttoMiss.html?r=71278
X-ALT-DESC;FMTTYPE=text/html:To create the perfect fall fun recipe add in a pinch of art\, a dash of boozy shenanigans\, and top it off with stacks upon stacks of fluffy\, golden pancakes. The Seattle Pancakes &amp\; Booze Art Show brings together the culture of a fall arts festival with delicious breakfast food\, live music\, and copious amounts of adult beverages. This 21-and-older street fest is brimming with things to do. Whether you gorge yourself on the free flapjacks\, check out the underground art show\, or participate in body painting\, you are sure to have a great time while attending this Seattle street party. https://www.vacationsmadeeasy.com/TheBLT/20AutumnArtsFestivalsinWashingtonYouWontWanttoMiss.html?r=71278
LOCATION:El Corazan 109 Eastlake Ave. E Seattle\,WA
UID:e.2591.979
SEQUENCE:3
DTSTAMP:20260425T134027Z
URL:http://seattlesouthsidechamber.com/events/details/seattle-pancakes-booze-art-show-979
END:VEVENT

END:VCALENDAR
