BEGIN:VCALENDAR
VERSION:2.0
PRODID:-//ChamberMaster//Event Calendar 2.0//EN
METHOD:PUBLISH
X-PUBLISHED-TTL:P3D
REFRESH-INTERVAL:P3D
CALSCALE:GREGORIAN
BEGIN:VEVENT
DTSTART:20180823T230000Z
DTEND:20180824T020000Z
X-MICROSOFT-CDO-ALLDAYEVENT:FALSE
SUMMARY:Seattle Airport Marriott Re-Design Celebration
DESCRIPTION:Please join the Seattle Airport Marriott as they celebrate the completion of their re-designed guest rooms. There will be amazing food and beverages\, as well as complimentary valet parking.
X-ALT-DESC;FMTTYPE=text/html:Please join the Seattle Airport Marriott as they celebrate the completion of their re-designed guest rooms. There will be amazing food and beverages\, as well as complimentary valet parking.
LOCATION:Seattle Airport Marriott 3201 S 176th Street Seattle\, WA 98188
UID:e.2591.2351
SEQUENCE:3
DTSTAMP:20260424T221012Z
URL:http://seattlesouthsidechamber.com/events/details/seattle-airport-marriott-re-design-celebration-2351
END:VEVENT

END:VCALENDAR
