BEGIN:VCALENDAR
VERSION:2.0
PRODID:-//ChamberMaster//Event Calendar 2.0//EN
METHOD:PUBLISH
X-PUBLISHED-TTL:P3D
REFRESH-INTERVAL:P3D
CALSCALE:GREGORIAN
BEGIN:VEVENT
DTSTART:20180925T180000Z
DTEND:20180925T200000Z
X-MICROSOFT-CDO-ALLDAYEVENT:FALSE
SUMMARY:Seattle Airport Marriott Lunch to celebrate new chef Gerold Castro
DESCRIPTION:Please join us for lunch as we celebrate our\n\nnew Executive Chef\n\nGerold Castro\n\nSeattle Airport Marriott\n\nTuesday\, September 25\, 2018\n\n11:00am to 1:00pm\n\nAmazing Food and Beverages\n\nComplimentary Valet Parking\n\nWe look forward to seeing you.
X-ALT-DESC;FMTTYPE=text/html:<p align="center" style="text-align:center\;line-height:15.75pt"><em><b><span style="font-family:&quot\;Arial&quot\;\,sans-serif\;color:black">Please join us for lunch as we celebrate our</span></b></em><br />\n<b><i><span style="font-family:&quot\;Arial&quot\;\,sans-serif\;\ncolor:black"><em><span style="font-family:&quot\;Arial&quot\;\,sans-serif">new Executive Chef</span></em><br />\n<em><span style="font-family:&quot\;Arial&quot\;\,sans-serif">Gerold Castro</span></em></span></i></b><b><span style="font-family:&quot\;Arial&quot\;\,sans-serif\;color:black"><o:p></o:p></span></b></p>\n\n<p align="center" style="text-align:center\;line-height:15.75pt"><strong><i><span style="font-family:&quot\;Arial&quot\;\,sans-serif\;color:black">Seattle Airport Marriott</span></i></strong><b><span style="font-family:&quot\;Arial&quot\;\,sans-serif\;color:black"><o:p></o:p></span></b></p>\n\n<p align="center" style="text-align:center\;line-height:15.75pt"><strong><i><span style="font-family:&quot\;Arial&quot\;\,sans-serif\;color:black">Tuesday\, September 25\, 2018</span></i></strong><b><span style="font-family:&quot\;Arial&quot\;\,sans-serif\;color:black"><o:p></o:p></span></b></p>\n\n<p align="center" style="text-align:center\;line-height:15.75pt"><em><b><span style="font-family:&quot\;Arial&quot\;\,sans-serif\;color:black">11:00am to 1:00pm</span></b></em><b><span style="font-family:&quot\;Arial&quot\;\,sans-serif\;color:black"><o:p></o:p></span></b></p>\n\n<p align="center" style="text-align:center\;line-height:15.75pt"><em><b><span style="font-family:&quot\;Arial&quot\;\,sans-serif\;color:black">Amazing Food and Beverages</span></b></em><br />\n<b><i><span style="font-family:&quot\;Arial&quot\;\,sans-serif\;color:black"><em><span style="font-family:&quot\;Arial&quot\;\,sans-serif">Complimentary Valet Parking</span></em></span></i></b><b><span style="font-family:&quot\;Arial&quot\;\,sans-serif\;color:black"><o:p></o:p></span></b></p>\n\n<p align="center" style="text-align:center\;line-height:15.75pt"><b><span style="font-family:&quot\;Arial&quot\;\,sans-serif\;color:black">We look forward to seeing you.<o:p></o:p></span></b></p>\n
LOCATION:Seattle Airport Marriott 3201 South 176th Street Seattle\, WA 98188
UID:e.2591.2536
SEQUENCE:3
DTSTAMP:20260424T204218Z
URL:http://seattlesouthsidechamber.com/events/details/seattle-airport-marriott-lunch-to-celebrate-new-chef-gerold-castro-2536
END:VEVENT

END:VCALENDAR
