BEGIN:VCALENDAR
VERSION:2.0
PRODID:-//ChamberMaster//Event Calendar 2.0//EN
METHOD:PUBLISH
X-PUBLISHED-TTL:P3D
REFRESH-INTERVAL:P3D
CALSCALE:GREGORIAN
BEGIN:VEVENT
DTSTART:20170730T010000Z
DTEND:20170730T040000Z
X-MICROSOFT-CDO-ALLDAYEVENT:FALSE
SUMMARY:SeaTac Theatre in the Park: Cinderella - A Global Story
DESCRIPTION:Cinderella ~ A Global Story\n\nSaturday\, July 29\, 6:00 p.m.\n\nDid you know there are many versions of the Cinderella story around the globe?  "Cinderella - A Global Story\," is an original live music cultural dance theatre production written and directed by Suzanna Davis\, exploring the many versions of the Cinderella story across cultures through dance.  Debuted as an "Egyptian" story in 2013\, this production will return\, reinstalled as a Global story featuring African\, Samba\, Flamenco\, Indian Kathak\, American tap\, classical and modern Egyptian dance\, and other styles\, again with live music.  A fun and familiar story that is enlightening and entertaining for the whole family!\n\n\n\n \n\nAngle Lake Park\n\n19408 International Blvd.\, SeaTac\n\nBring a lawn chair or blanket to sit on.  Additional parking is available at Alaska Airlines which is located just north of Angle Lake Park.\n\nConcert is sponsored by the City of SeaTac and supported by 4Culture.
X-ALT-DESC;FMTTYPE=text/html:<h5 style="box-sizing: border-box\; font-family: Poppins\, sans-serif\; line-height: 1.1\; color: rgb(13\, 101\, 139)\; margin-top: 10px\; margin-bottom: 10px\; font-size: 22.2154px\;">Cinderella ~ A Global Story</h5>\n\n<p style="box-sizing: border-box\; margin: 0px 0px 1em\; color: rgb(0\, 0\, 0)\; font-family: Poppins\, sans-serif\; font-size: 16px\;">Saturday\, July 29\, 6:00 p.m.<br style="box-sizing: border-box\;" />\nDid you know there are many versions of the Cinderella story around the globe?&nbsp\; &quot\;Cinderella - A Global Story\,&quot\; is an original live music cultural dance theatre production written and directed by Suzanna Davis\, exploring the many versions of the Cinderella story across cultures through dance.&nbsp\; Debuted as an &quot\;Egyptian&quot\; story in 2013\, this production will return\, reinstalled as a Global story featuring African\, Samba\, Flamenco\, Indian Kathak\, American tap\, classical and modern Egyptian dance\, and other styles\, again with live music.&nbsp\; A fun and familiar story that is enlightening and entertaining for the whole family!<br />\n<br />\n&nbsp\;</p>\n\n<p style="box-sizing: border-box\; margin: 0px 0px 1em\; color: rgb(0\, 0\, 0)\; font-family: Poppins\, sans-serif\; font-size: 16px\;">Angle Lake Park<br style="box-sizing: border-box\;" />\n19408 International Blvd.\, SeaTac</p>\n\n<p style="box-sizing: border-box\; margin: 0px 0px 1em\; color: rgb(0\, 0\, 0)\; font-family: Poppins\, sans-serif\; font-size: 16px\;">Bring a lawn chair or blanket to sit on.&nbsp\; Additional parking is available at Alaska Airlines which is located just north of Angle Lake Park.</p>\n\n<p style="box-sizing: border-box\; margin: 0px 0px 1em\; color: rgb(0\, 0\, 0)\; font-family: Poppins\, sans-serif\; font-size: 16px\;">Concert is sponsored by the City of SeaTac and supported by 4Culture.</p>\n
LOCATION:Angle Lake Park 19408 International Blvd.\, SeaTac Bring a lawn chair or blanket to sit on. Additional parking is available at Alaska Airlines which is located just north of Angle Lake Park. Concert is sponsored by the City of SeaTac and supported by 4Culture.
UID:e.2591.855
SEQUENCE:3
DTSTAMP:20260425T200926Z
URL:http://seattlesouthsidechamber.com/events/details/seatac-theatre-in-the-park-cinderella-a-global-story-855
END:VEVENT

END:VCALENDAR
