BEGIN:VCALENDAR
VERSION:2.0
PRODID:-//ChamberMaster//Event Calendar 2.0//EN
METHOD:PUBLISH
X-PUBLISHED-TTL:P3D
REFRESH-INTERVAL:P3D
CALSCALE:GREGORIAN
BEGIN:VEVENT
DTSTART:20190406T160000Z
DTEND:20190406T220000Z
X-MICROSOFT-CDO-ALLDAYEVENT:FALSE
SUMMARY:SeaTac Special Recycling Collection Event
DESCRIPTION:CITY OF SEATAC Spring Special Recycling Collection Event For King County Residents\n\nSaturday\, April 6th\, 2019\n\nTyee Educational Complex Parking Lot\n\n4424 South 188th Street\n\n9 AM to 3 PM\n\nNo vehicles may enter after 3 PM.\n\nNo commercial loads allowed. No yard debris accepted. \n\n\n\nSPECIAL RECYCLING COLLECTION EVENT No Commercial Loads. No flat bed or dump trucks allowed. No Yard Debris!\n\nWe reserve the right to refuse oversized\, commercial\, contaminated\, excessive\, or unacceptable loads. Cash only when fees apply. Residents pay vendors directly. Vendors at the event reserve the right to reject any items that do not meet their requirements.\n\n\n\n\n\nFull details can be found: \n\nhttp://www.seatacwa.gov/home/showdocument?id=26086
X-ALT-DESC;FMTTYPE=text/html:CITY OF SEATAC Spring Special Recycling Collection Event For King County Residents<br />\nSaturday\, April 6th\, 2019<br />\nTyee Educational Complex Parking Lot<br />\n4424 South 188th Street<br />\n9 AM to 3 PM<br />\nNo vehicles may enter after 3 PM.<br />\nNo commercial loads allowed. No yard debris accepted.&nbsp\;<br />\n<br />\nSPECIAL RECYCLING COLLECTION EVENT No Commercial Loads. No flat bed or dump trucks allowed. No Yard Debris!<br />\nWe reserve the right to refuse oversized\, commercial\, contaminated\, excessive\, or unacceptable loads. Cash only when fees apply. Residents pay vendors directly. Vendors at the event reserve the right to reject any items that do not meet their requirements.<br />\n<br />\n<br />\nFull details can be found:&nbsp\;<br />\nhttp://www.seatacwa.gov/home/showdocument?id=26086
LOCATION:
UID:e.2591.2894
SEQUENCE:3
DTSTAMP:20260424T105825Z
URL:http://seattlesouthsidechamber.com/events/details/seatac-special-recycling-collection-event-2894
END:VEVENT

END:VCALENDAR
