BEGIN:VCALENDAR
VERSION:2.0
PRODID:-//ChamberMaster//Event Calendar 2.0//EN
METHOD:PUBLISH
X-PUBLISHED-TTL:P3D
REFRESH-INTERVAL:P3D
CALSCALE:GREGORIAN
BEGIN:VEVENT
DTSTART:20170704T190000Z
DTEND:20170705T050000Z
X-MICROSOFT-CDO-ALLDAYEVENT:FALSE
SUMMARY:SeaTac Family Fourth of July
DESCRIPTION:The City of SeaTac invites you to join us for a star-spangled Family Fourth of July.  Gather family and friends at Angle Lake Park for family friendly entertainment and a fireworks display.  Entertainment kicks off at 1:00 p.m. on runs through 9:45 p.m.  The day will conclude with a fireworks display starting at approximately 10:00 p.m.\n\nBouncers will be available for children from noon-8:00 p.m.  The cost for the bouncers is $5/day per child.\n\nFor more details please visit the Family Fourth of July web page.
X-ALT-DESC;FMTTYPE=text/html:<p>The City of SeaTac invites you to join us for a star-spangled Family Fourth of July.&nbsp\; Gather family and friends at Angle Lake Park for family friendly entertainment and a fireworks display.&nbsp\; Entertainment kicks off at 1:00 p.m. on runs through 9:45 p.m.&nbsp\; The day will conclude with a fireworks display starting at approximately 10:00 p.m.<o:p></o:p></p>\n\n<p>Bouncers will be available for children from noon-8:00 p.m.&nbsp\; The cost for the bouncers is $5/day per child.<o:p></o:p></p>\n\n<p>For more details please visit the <a href="http://www.ci.seatac.wa.us/government/city-departments/parks-community-programs-services/special-events/family-fourth-of-july">Family Fourth of July</a> web page.<o:p></o:p></p>\n
LOCATION:Angle Lake Park 19408 International Blvd. SeaTac\, Washington 98188
UID:e.2591.783
SEQUENCE:3
DTSTAMP:20260425T214816Z
URL:http://seattlesouthsidechamber.com/events/details/seatac-family-fourth-of-july-783
END:VEVENT

END:VCALENDAR
