BEGIN:VCALENDAR
VERSION:2.0
PRODID:-//ChamberMaster//Event Calendar 2.0//EN
METHOD:PUBLISH
X-PUBLISHED-TTL:P3D
REFRESH-INTERVAL:P3D
CALSCALE:GREGORIAN
BEGIN:VEVENT
DTSTART:20190428T030000Z
DTEND:20190428T043000Z
X-MICROSOFT-CDO-ALLDAYEVENT:FALSE
SUMMARY:"Season Finale" concert with the Northwest Symphony Orchestra
DESCRIPTION:Plan to enjoy the last performance of the season. Concert includes the following:\n\nGuaguanco - Christophe Chagnard\n\nLes Preludes - Franz Liszt\n\nSymphony No. 4 - Piotr Ilyich Tchaikovsky
X-ALT-DESC;FMTTYPE=text/html:Plan to enjoy the last performance of the season. Concert includes the following:<br />\nGuaguanco -&nbsp\;Christophe Chagnard<br />\nLes Preludes -&nbsp\;Franz Liszt<br />\nSymphony No. 4 -&nbsp\;Piotr Ilyich Tchaikovsky
LOCATION:Highline Performing Art Center 401 S 152nd St Burien\, WA 98148
UID:e.2591.2826
SEQUENCE:3
DTSTAMP:20260424T110124Z
URL:http://seattlesouthsidechamber.com/events/details/season-finale-concert-with-the-northwest-symphony-orchestra-2826
END:VEVENT

END:VCALENDAR
