BEGIN:VCALENDAR
VERSION:2.0
PRODID:-//ChamberMaster//Event Calendar 2.0//EN
METHOD:PUBLISH
X-PUBLISHED-TTL:P3D
REFRESH-INTERVAL:P3D
CALSCALE:GREGORIAN
BEGIN:VEVENT
DTSTART:20181127T160000Z
DTEND:20181127T180000Z
X-MICROSOFT-CDO-ALLDAYEVENT:FALSE
SUMMARY:Santa's Pancakes & PJ's Party at Westfield Southcenter
DESCRIPTION:Here comes Santa Claus!\n\nDress up in your favorite holiday pajamas and spend a cozy morning with the jolly elf at Westfield Southcenter. Enjoy delicious holiday treats\, fun crafts\, and meeting Santa!\n\nAll ticket proceeds will benefit Seattle Children's Hospital.
X-ALT-DESC;FMTTYPE=text/html:<p style="box-sizing: border-box\; margin: 0px 0px 1rem\; color: rgb(34\, 34\, 34)\; font-family: &quot\;Open Sans&quot\;\, sans-serif\; font-size: 16px\;">Here comes Santa Claus!</p>\n\n<p style="box-sizing: border-box\; margin: 0px 0px 1rem\; color: rgb(34\, 34\, 34)\; font-family: &quot\;Open Sans&quot\;\, sans-serif\; font-size: 16px\;">Dress up in your favorite holiday pajamas and spend a cozy morning with the jolly elf at Westfield Southcenter. Enjoy delicious holiday treats\, fun crafts\, and meeting Santa!<br />\n<span style="color: rgb(34\, 34\, 34)\; font-family: &quot\;Open Sans&quot\;\, sans-serif\; font-size: 16px\;">All ticket proceeds will benefit&nbsp\;</span><a href="https://www.seattlechildrens.org/" rel="noopener" style="box-sizing: border-box\; color: inherit\; font-family: &quot\;Open Sans&quot\;\, sans-serif\; font-size: 16px\;" target="_blank">Seattle Children&#39\;s Hospital</a><span style="color: rgb(34\, 34\, 34)\; font-family: &quot\;Open Sans&quot\;\, sans-serif\; font-size: 16px\;">.</span></p>\n
LOCATION:Westfield Southcenter-This event will be located on Level 1 in Macy's Court. 2800 Southcenter Mall Seattle WA 98188
UID:e.2591.2625
SEQUENCE:3
DTSTAMP:20260424T173609Z
URL:http://seattlesouthsidechamber.com/events/details/santa-s-pancakes-pj-s-party-at-westfield-southcenter-2625
END:VEVENT

END:VCALENDAR
