BEGIN:VCALENDAR
VERSION:2.0
PRODID:-//ChamberMaster//Event Calendar 2.0//EN
METHOD:PUBLISH
X-PUBLISHED-TTL:P3D
REFRESH-INTERVAL:P3D
CALSCALE:GREGORIAN
BEGIN:VEVENT
DTSTART:20180911T003000Z
DTEND:20180911T033000Z
X-MICROSOFT-CDO-ALLDAYEVENT:FALSE
SUMMARY:SAMP Sea-Tac Sustainable Airport Master Plan Public Input
DESCRIPTION:The public engagement effort is aligned with key project milestones and designed to keep the public informed as the SAMP develops. Open houses\, public meetings\, email newsletters\, mailed newsletters\, and community presentations make it easy for the public to learn more\, provide input\, and ask questions.\n\nThe first step of the SAMP Near-Term Projects environmental review called "scoping" is underway through September 28. There are several other ways in which you may provide input on the categories that could be addressed during environmental review\, including four in-person public scoping open houses. All open houses will occur from 5:30 p.m. to 8:30 p.m.
X-ALT-DESC;FMTTYPE=text/html:<p background-color:="" sans="" source="">The public engagement effort is aligned with key project milestones and designed to keep the public informed as the SAMP develops. Open houses\, public meetings\, email newsletters\, mailed newsletters\, and community presentations make it easy for the public to learn more\, provide input\, and ask questions.</p>\n\n<p background-color:="" sans="" source="">The first step of the SAMP Near-Term Projects environmental review called &ldquo\;scoping&rdquo\; is underway through September 28. There are several other ways in which you may provide input on the categories that could be addressed during environmental review\, including four in-person public scoping open houses. All open houses will occur from 5:30 p.m. to 8:30 p.m.</p>\n
LOCATION:Highline College Student Union Building 8 (City of Des Moines) 2400 S 240th St\, Des Moines\, WA 98198 Attendees may park at Highline College's East\, North or South Parking Lot. Port staff will be positioned at each lot's parking pay station to distribute free visitor parking passes to attendees.
UID:e.2591.2497
SEQUENCE:3
DTSTAMP:20260424T203817Z
URL:http://seattlesouthsidechamber.com/events/details/samp-sea-tac-sustainable-airport-master-plan-public-input-2497
END:VEVENT

END:VCALENDAR
