BEGIN:VCALENDAR
VERSION:2.0
PRODID:-//ChamberMaster//Event Calendar 2.0//EN
METHOD:PUBLISH
X-PUBLISHED-TTL:P3D
REFRESH-INTERVAL:P3D
CALSCALE:GREGORIAN
BEGIN:VEVENT
DTSTART:20181221T213000Z
DTEND:20181221T233000Z
X-MICROSOFT-CDO-ALLDAYEVENT:FALSE
SUMMARY:Sambusa and Save at Tukwila Village
DESCRIPTION:Bring a friend\, take a tour of new Shag Tukwila Village and enjoy delicious Somalian Sambusas.
X-ALT-DESC;FMTTYPE=text/html:Bring a friend\, take a tour of new Shag Tukwila Village and enjoy delicious Somalian Sambusas.
LOCATION:Shag Tukwila Village 4051 S. 144th St. Tukwila\, WA. 98168
UID:e.2591.2638
SEQUENCE:3
DTSTAMP:20260424T155156Z
URL:http://seattlesouthsidechamber.com/events/details/sambusa-and-save-at-tukwila-village-2638
END:VEVENT

END:VCALENDAR
