BEGIN:VCALENDAR
VERSION:2.0
PRODID:-//ChamberMaster//Event Calendar 2.0//EN
METHOD:PUBLISH
X-PUBLISHED-TTL:P3D
REFRESH-INTERVAL:P3D
CALSCALE:GREGORIAN
BEGIN:VEVENT
DTSTART;VALUE=DATE:20180713
DTEND;VALUE=DATE:20180716
TRANSP:TRANSPARENT
X-MICROSOFT-CDO-ALLDAYEVENT:TRUE
SUMMARY:Salon Dayvion Grand Opening Weekend
DESCRIPTION:It's a GRAND OPENING weekend for SALON DAYVION! And we would love it if you could join us for any of the days below.\n\n\n\nFriday- 4pm to 8pm\n\nLets start the celebration off with an evening Meet & Greet with a toast! We are excited to start off this new journey in the Normandy Park area! Our HENNA tattoo artist will be on deck. (Donations appreciated  ) We will have small eats and music to enhance the mood. \n\n\n\nRIBBON CUTTING at 7pm!\n\n\n\nSaturday- 9am to 2pm\n\nWe just wanna introduce the salon to the neighborhood. So come have a cup of coffee\, eat some doughnuts (Top Pot doughnuts!) and say HI!! Or come get a FREE EYEBROW WAX.\n\n\n\nSunday- 11am to 5pm\n\nCome & enjoy the ambiance and join us in a Trading Party! Each lady is to bring no more than 10 items & a bottle of wine pls! (*Items must be in great condition) We will also have a Henna tattoo artist on deck! (*Donations appreciated  ) \n\nFREE EYEBROW WAXING for the 1st couple of hours. And for your bellies we will be having someone selling & grilling fresh BBQ with all the sides you love! Plates are $10-$15. Please bring cash for the festivities!
X-ALT-DESC;FMTTYPE=text/html:<span style="color: rgb(29\, 33\, 41)\; font-family: Helvetica\, Arial\, sans-serif\; font-size: 14px\;">It&#39\;s a GRAND OPENING weekend for SALON DAYVION! And we would love it if you could join us for any of the days below.</span><br style="color: rgb(29\, 33\, 41)\; font-family: Helvetica\, Arial\, sans-serif\; font-size: 14px\;" />\n<br style="color: rgb(29\, 33\, 41)\; font-family: Helvetica\, Arial\, sans-serif\; font-size: 14px\;" />\n<strong><span style="color: rgb(29\, 33\, 41)\; font-family: Helvetica\, Arial\, sans-serif\; font-size: 14px\;">Friday- 4pm to 8pm</span></strong><br style="color: rgb(29\, 33\, 41)\; font-family: Helvetica\, Arial\, sans-serif\; font-size: 14px\;" />\n<span style="color: rgb(29\, 33\, 41)\; font-family: Helvetica\, Arial\, sans-serif\; font-size: 14px\;">Lets start the celebration off with an evening Meet &amp\; Greet with a toast! We are excited to start off this new journey in the Normandy Park area! Our HENNA tattoo artist will be on deck. (Donations appreciated &#128521\;) We will have small eats and music to enhance the mood.&nbsp\;<br />\n<br />\n<u>RIBBON CUTTING at 7pm!</u></span><br style="color: rgb(29\, 33\, 41)\; font-family: Helvetica\, Arial\, sans-serif\; font-size: 14px\;" />\n<br style="color: rgb(29\, 33\, 41)\; font-family: Helvetica\, Arial\, sans-serif\; font-size: 14px\;" />\n<strong><span style="color: rgb(29\, 33\, 41)\; font-family: Helvetica\, Arial\, sans-serif\; font-size: 14px\;">Saturday- 9am to 2pm</span></strong><br style="color: rgb(29\, 33\, 41)\; font-family: Helvetica\, Arial\, sans-serif\; font-size: 14px\;" />\n<span style="color: rgb(29\, 33\, 41)\; font-family: Helvetica\, Arial\, sans-serif\; font-size: 14px\;">We just wanna introduce the salon to the neighborhood. So come have a cup of coffee\, eat some doughnuts (Top Pot doughnuts!) and say HI!! Or come get a FREE EYEBROW WAX.<br />\n<br />\n<strong>Sunday- 11am to 5pm</strong></span><br style="color: rgb(29\, 33\, 41)\; font-family: Helvetica\, Arial\, sans-serif\; font-size: 14px\;" />\n<span style="color: rgb(29\, 33\, 41)\; font-family: Helvetica\, Arial\, sans-serif\; font-size: 14px\;">Come &amp\; enjoy the ambiance and join us in a Trading Party! Each lady is to bring no more than 10 items &amp\; a bottle of wine pls! (*Items must be in great condition) We will also have a Henna tattoo artist on deck! (*Donations appreciated &#128521\;)&nbsp\;</span><br style="color: rgb(29\, 33\, 41)\; font-family: Helvetica\, Arial\, sans-serif\; font-size: 14px\;" />\n<span style="color: rgb(29\, 33\, 41)\; font-family: Helvetica\, Arial\, sans-serif\; font-size: 14px\;">FREE EYEBROW WAXING for the 1st couple of hours. And for your bellies we will be having someone selling &amp\; grilling fresh BBQ with all the sides you love! Plates are $10-$15. Please bring cash for the festivities!</span>
LOCATION:17817 1st AVE S #3 Normandy Park\, WA 98148
UID:e.2591.2138
SEQUENCE:3
DTSTAMP:20260424T203838Z
URL:http://seattlesouthsidechamber.com/events/details/salon-dayvion-grand-opening-weekend-2138
END:VEVENT

END:VCALENDAR
