BEGIN:VCALENDAR
VERSION:2.0
PRODID:-//ChamberMaster//Event Calendar 2.0//EN
METHOD:PUBLISH
X-PUBLISHED-TTL:P3D
REFRESH-INTERVAL:P3D
CALSCALE:GREGORIAN
BEGIN:VEVENT
DTSTART:20190628T000000Z
DTEND:20190628T013000Z
X-MICROSOFT-CDO-ALLDAYEVENT:FALSE
SUMMARY:Roundtable Discussion with the Seattle Chamber
DESCRIPTION:Join us for a Roundtable Discussion with King County Councilmember Joe McDermott around topics impacting your business and neighborhood. This is a great chance to speak directly with your Councilmember\, hear about upcoming policies\, and engage on community business issues.\n\n\n\nThis event is in partnership with Seattle Metro Chamber and sponsored by Recology CleanScapes.
X-ALT-DESC;FMTTYPE=text/html:Join us for a Roundtable Discussion with King County Councilmember Joe McDermott around topics impacting your business and neighborhood.&nbsp\;This is a great chance to speak directly with your Councilmember\, hear about upcoming policies\, and engage on community business issues.<br />\n<br />\nThis event is in partnership with Seattle Metro Chamber and sponsored by Recology CleanScapes.&nbsp\;
LOCATION:Comfort Suites Airport 7200 Fun Center Way\, Tukwila\, WA\, 98188
UID:e.2591.2887
SEQUENCE:3
DTSTAMP:20260424T025044Z
URL:http://seattlesouthsidechamber.com/events/details/roundtable-discussion-with-the-seattle-chamber-2887
END:VEVENT

END:VCALENDAR
