BEGIN:VCALENDAR
VERSION:2.0
PRODID:-//ChamberMaster//Event Calendar 2.0//EN
METHOD:PUBLISH
X-PUBLISHED-TTL:P3D
REFRESH-INTERVAL:P3D
CALSCALE:GREGORIAN
BEGIN:VEVENT
DTSTART:20190228T023000Z
DTEND:20190228T043000Z
X-MICROSOFT-CDO-ALLDAYEVENT:FALSE
SUMMARY:Restaurant After Hours 2019-Seattle Metropolitan Chamber
DESCRIPTION:Come visit us at the Seattle Metropolitan Chamber of Commerce's Restaurant After Hours! Enjoy bites and brews from local restaurants and caterers while mingling with 700 local business folks and foodies inside the iconic Seattle Aquarium.
X-ALT-DESC;FMTTYPE=text/html:Come visit us at the Seattle Metropolitan Chamber of Commerce&rsquo\;s Restaurant After Hours! Enjoy bites and brews from local restaurants and caterers while mingling with 700 local business folks and foodies inside the iconic Seattle Aquarium.
LOCATION:Seattle Aquarium\, 1483 Alaskan Way \, Seattle \, WA \, 98101
UID:e.2591.2850
SEQUENCE:3
DTSTAMP:20260424T140051Z
URL:http://seattlesouthsidechamber.com/events/details/restaurant-after-hours-2019-seattle-metropolitan-chamber-2850
END:VEVENT

END:VCALENDAR
