BEGIN:VCALENDAR
VERSION:2.0
PRODID:-//ChamberMaster//Event Calendar 2.0//EN
METHOD:PUBLISH
X-PUBLISHED-TTL:P3D
REFRESH-INTERVAL:P3D
CALSCALE:GREGORIAN
BEGIN:VEVENT
DTSTART:20190220T033000Z
DTEND:20190220T053000Z
X-MICROSOFT-CDO-ALLDAYEVENT:FALSE
SUMMARY:Rescheduled Valentine's Concert with the Northwest Symphony Orchestra
DESCRIPTION:Make plans to enjoy a romantic evening with the Northwest Symphony Orchestra. (Rescheduled from February 8 due to snow.)\n\n\n\nHuw Edwards\, Guest Conductor\n\nSymphony #2 (Romantic) - Howard Hanson\n\nRomance for Violin in F Major - Ludwig Van Beethoven\n\nKaia Selden\, soloist\n\nBefore I Wake - Lauren Wells\n\nNorfolk Rhapsody No 1 - Ralph Vaughan Williams
X-ALT-DESC;FMTTYPE=text/html:<p>Make plans to enjoy a romantic evening with the Northwest Symphony Orchestra. (Rescheduled from February 8 due to snow.)<br />\n<br />\nHuw Edwards\, Guest Conductor</p>\n\n<p>Symphony #2 (Romantic) - Howard Hanson<br />\nRomance for Violin in F Major - Ludwig Van Beethoven<br />\nKaia Selden\, soloist<br />\nBefore I Wake - Lauren Wells<br />\nNorfolk Rhapsody No 1 - Ralph Vaughan Williams</p>\n
LOCATION:Highline Performing Arts Center 401 Southwest 152nd Street Burien\, WA\, 98166
UID:e.2591.2823
SEQUENCE:3
DTSTAMP:20260424T123459Z
URL:http://seattlesouthsidechamber.com/events/details/rescheduled-valentine-s-concert-with-the-northwest-symphony-orchestra-2823
END:VEVENT

END:VCALENDAR
