BEGIN:VCALENDAR
VERSION:2.0
PRODID:-//ChamberMaster//Event Calendar 2.0//EN
METHOD:PUBLISH
X-PUBLISHED-TTL:P3D
REFRESH-INTERVAL:P3D
CALSCALE:GREGORIAN
BEGIN:VEVENT
DTSTART:20190224T033000Z
DTEND:20190224T050000Z
X-MICROSOFT-CDO-ALLDAYEVENT:FALSE
SUMMARY:Rescheduled-Burien C.A.R.E.S. Stand Up for Animals Open Bite Nite
DESCRIPTION:This event has been rescheduled due to the snow storm. This annual fundraiser benefits the animals at a local community animal shelter.\n\nThere will be music\, comedy\, a silent auction\, and more.\n\nNo-host bar available.
X-ALT-DESC;FMTTYPE=text/html:<p>This event has been rescheduled due to the snow storm. This annual fundraiser benefits the animals at a local&nbsp\;community animal shelter.</p>\n\n<p>There will be music\, comedy\, a silent auction\, and more.</p>\n\n<p>No-host bar available.<br />\n&nbsp\;</p>\n
LOCATION:The Burien Elks Lodge 14006 1st Ave S Burien\, WA 98168
UID:e.2591.2756
SEQUENCE:3
DTSTAMP:20260424T140826Z
URL:http://seattlesouthsidechamber.com/events/details/rescheduled-burien-c-a-r-e-s-stand-up-for-animals-open-bite-nite-2756
END:VEVENT

END:VCALENDAR
