BEGIN:VCALENDAR
VERSION:2.0
PRODID:-//ChamberMaster//Event Calendar 2.0//EN
METHOD:PUBLISH
X-PUBLISHED-TTL:P3D
REFRESH-INTERVAL:P3D
CALSCALE:GREGORIAN
BEGIN:VEVENT
DTSTART:20180925T220000Z
DTEND:20180926T010000Z
X-MICROSOFT-CDO-ALLDAYEVENT:FALSE
SUMMARY:Repair Cafe at the Burien Library
DESCRIPTION:Don't toss your broken lamp\, pair of ripped jeans or busted chair away   bring it to the 'Repair Cafe\,' coming to the Burien Library on Tuesday\, Sept. 25.\n\nThis FREE event will run from 3   6 p.m.\, when skilled "fixers" will try to help you repair your damaged household items to keep them out of the landfill and save you money.\n\n\n	Free repair of small household items (small enough for one person to carry).\n	No leaky\, dangerous or smelly items & nothing that uses gasoline.\n	You must be present during the repair.\n	No guarantees that an item can be fixed or won't be made worse during the repair.\n	Please sign up in advance with what you're bringing so the "fixers" can be prepared.\n	Registration is encouraged\, but walk-ins are welcome.\n	Everyone will be assisted as time is available.\n	Don't throw it away   bring it to the 'Repair Cafe' at Burien Library Sept. 25\n	Co-sponsored by the King County EcoConsumer program's Repair Time project.
X-ALT-DESC;FMTTYPE=text/html:<p style="background-color: transparent\; font-family: Arial\, Tahoma\, Verdana\; font-size: 12px\; font-variant-numeric: normal\; font-variant-east-asian: normal\; line-height: 20px\; margin: 12px 0px\; padding: 0px\; width: 916px\;"><strong style="line-height: 20px\; margin-bottom: 0px\; margin-left: 0px\; margin-right: 0px\; margin-top: 0px\; padding-bottom: 0px\; padding-left: 0px\; padding-right: 0px\; padding-top: 0px\; width: auto\;">Don&rsquo\;t toss your broken lamp\, pair of ripped jeans or busted chair away &ndash\; bring it to the &lsquo\;Repair Cafe\,&rsquo\; coming to the Burien Library on Tuesday\, Sept. 25.</strong></p>\n\n<p style="background-color: transparent\; font-family: Arial\, Tahoma\, Verdana\; font-size: 12px\; font-variant-numeric: normal\; font-variant-east-asian: normal\; line-height: 20px\; margin: 12px 0px\; padding: 0px\; width: 916px\;">This FREE event will run from 3 &ndash\; 6 p.m.\, when skilled &ldquo\;fixers&rdquo\; will try to help you repair your damaged household items to keep them out of the landfill and save you money.</p>\n\n<ul style="background-color: transparent\; font-family: Arial\, Tahoma\, Verdana\; font-size: 12px\; font-variant-numeric: normal\; font-variant-east-asian: normal\; list-style-type: square\; margin: 0px 0px 0px 15px\; padding-bottom: 5px\; padding-left: 0px\; padding-right: 0px\;">\n	<li style="list-style-type: square\; margin-bottom: 0px\; margin-left: 15px\; margin-right: 0px\; margin-top: 0px\; padding-bottom: 5px\; padding-left: 0px\; padding-right: 0px\; padding-top: 0px\;">Free repair of small household items (small enough for one person to carry).</li>\n	<li style="list-style-type: square\; margin-bottom: 0px\; margin-left: 15px\; margin-right: 0px\; margin-top: 0px\; padding-bottom: 5px\; padding-left: 0px\; padding-right: 0px\; padding-top: 0px\;">No leaky\, dangerous or smelly items &amp\; nothing that uses gasoline.</li>\n	<li style="list-style-type: square\; margin-bottom: 0px\; margin-left: 15px\; margin-right: 0px\; margin-top: 0px\; padding-bottom: 5px\; padding-left: 0px\; padding-right: 0px\; padding-top: 0px\;">You must be present during the repair.</li>\n	<li style="list-style-type: square\; margin-bottom: 0px\; margin-left: 15px\; margin-right: 0px\; margin-top: 0px\; padding-bottom: 5px\; padding-left: 0px\; padding-right: 0px\; padding-top: 0px\;">No guarantees that an item can be fixed or won&rsquo\;t be made worse during the repair.</li>\n	<li style="list-style-type: square\; margin-bottom: 0px\; margin-left: 15px\; margin-right: 0px\; margin-top: 0px\; padding-bottom: 5px\; padding-left: 0px\; padding-right: 0px\; padding-top: 0px\;">Please sign up in advance with what you&rsquo\;re bringing so the &ldquo\;fixers&rdquo\; can be prepared.</li>\n	<li style="list-style-type: square\; margin-bottom: 0px\; margin-left: 15px\; margin-right: 0px\; margin-top: 0px\; padding-bottom: 5px\; padding-left: 0px\; padding-right: 0px\; padding-top: 0px\;">Registration is encouraged\, but walk-ins are welcome.</li>\n	<li style="list-style-type: square\; margin-bottom: 0px\; margin-left: 15px\; margin-right: 0px\; margin-top: 0px\; padding-bottom: 5px\; padding-left: 0px\; padding-right: 0px\; padding-top: 0px\;">Everyone will be assisted as time is available.</li>\n	<li style="list-style-type: square\; margin-bottom: 0px\; margin-left: 15px\; margin-right: 0px\; margin-top: 0px\; padding-bottom: 5px\; padding-left: 0px\; padding-right: 0px\; padding-top: 0px\;"><span style="background-color: transparent\; font-family: &quot\;Helvetica Neue&quot\;\, Arial\, Helvetica\, &quot\;Nimbus Sans L&quot\;\, sans-serif\; font-size: 12px\; font-variant-numeric: normal\; font-variant-east-asian: normal\;">Don&rsquo\;t throw it away &ndash\; bring it to the &lsquo\;Repair Cafe&rsquo\; at Burien Library Sept. 25</span></li>\n	<li style="list-style-type: square\; margin-bottom: 0px\; margin-left: 15px\; margin-right: 0px\; margin-top: 0px\; padding-bottom: 5px\; padding-left: 0px\; padding-right: 0px\; padding-top: 0px\;">Co-sponsored by the King County EcoConsumer program&rsquo\;s Repair Time project.</li>\n</ul>\n
LOCATION:Burien Library 400 SW 152nd Street\, Burien\, WA\, 98166
UID:e.2591.2511
SEQUENCE:3
DTSTAMP:20260424T203919Z
URL:http://seattlesouthsidechamber.com/events/details/repair-cafe-at-the-burien-library-2511
END:VEVENT

END:VCALENDAR
