BEGIN:VCALENDAR
VERSION:2.0
PRODID:-//ChamberMaster//Event Calendar 2.0//EN
METHOD:PUBLISH
X-PUBLISHED-TTL:P3D
REFRESH-INTERVAL:P3D
CALSCALE:GREGORIAN
BEGIN:VEVENT
DTSTART:20181025T203000Z
DTEND:20181025T233000Z
X-MICROSOFT-CDO-ALLDAYEVENT:FALSE
SUMMARY:Rehberg Law Group 50th Anniversary and Open House
DESCRIPTION:Come and join the fun as we celebrate 50 years of estate planning excellence! Take a tour of our recently expanded office space\, enjoy light refreshments\, and grab a seat at one of our mini-seminars\, "Can You Control From the Grave or If You Are Incapacitated?" at 2:00pm and 3:30pm.
X-ALT-DESC;FMTTYPE=text/html:Come and join the fun as we celebrate 50 years of estate planning excellence! Take a tour of our recently expanded office space\, enjoy light refreshments\, and grab a seat at one of our mini-seminars\, &quot\;Can You Control From the Grave or If You Are Incapacitated?&quot\; at 2:00pm and 3:30pm.
LOCATION:Rehberg Law Group Office\, 5th Floor\, Suite 550 18000 International Blvd Suite 550 SeaTac\, WA 98188
UID:e.2591.2542
SEQUENCE:3
DTSTAMP:20260424T185436Z
URL:http://seattlesouthsidechamber.com/events/details/rehberg-law-group-50th-anniversary-and-open-house-2542
END:VEVENT

END:VCALENDAR
