BEGIN:VCALENDAR
VERSION:2.0
PRODID:-//ChamberMaster//Event Calendar 2.0//EN
METHOD:PUBLISH
X-PUBLISHED-TTL:P3D
REFRESH-INTERVAL:P3D
CALSCALE:GREGORIAN
BEGIN:VEVENT
DTSTART;VALUE=DATE:20190306
DTEND;VALUE=DATE:20190307
TRANSP:TRANSPARENT
X-MICROSOFT-CDO-ALLDAYEVENT:TRUE
SUMMARY:Recruiting & Interview Event for King County Dept of Natural Resources & Parks Seasonal Jobs (April-Oct)
DESCRIPTION:Recruiting & Interview Event for King County Dept of Natural Resources & Parks  (DNRP) Seasonal Jobs (April-Oct)\n\nWHEN: Wednesday\, March 6\, 2019\n\nSession 1 @ 9:00am\n\nSession 2 @ 1:00pm\n\nWHERE: Renton Community Center\, 1715 Maple Valley Highway\, Renton\, WA\nInterview on-site with King County DNRP staff!\n If you're interested in attending event\, YOU MUST REGISTER FOR ONE OF THESE SESSIONS @ www.kcdnrpjobs.eventbrite.com\n\nRecruiting & Interviewing for Many Seasonal Job Openings (April-Oct) located throughout King County: \n\n Seasonal Park Maintenance Jobs - $21.54/hr (locations in multiple East King County and South King County parks)\n\n Wastewater Treatment Division Seasonal Grounds Helper Jobs - $21.03/hr (locations in Woodinville\, Seattle/Magnolia\, and Renton) \n\nSome requirements for positions include but not limited to:\n\n At least 18 years old\n\n Valid Driver's License\n\n See job description\, locations\, and requirements on the job posting @ https://www.governmentjobs.com/careers/kingcounty/jobs/2338389/seasonal-park-maintenance-workers\n\n\n\nEvent partners:\n\n King County Parks\n\n King County Wastewater Treatment Division\n\n WorkSource Seattle-King County\n\n Communities of Opportunity
X-ALT-DESC;FMTTYPE=text/html:Recruiting &amp\; Interview Event for King County Dept of Natural Resources &amp\; Parks&nbsp\;&nbsp\;(DNRP) Seasonal Jobs (April-Oct)<br />\nWHEN: Wednesday\, March 6\, 2019<br />\nSession 1 @ 9:00am<br />\nSession 2 @ 1:00pm<br />\nWHERE: Renton Community Center\, 1715 Maple Valley Highway\, Renton\, WA\n<h3>Interview on-site with King County DNRP staff!</h3>\n&nbsp\;If you&#39\;re interested in attending event\, YOU MUST REGISTER FOR ONE OF THESE SESSIONS @ <a href="https://na01.safelinks.protection.outlook.com/?url=http%3A%2F%2Fwww.kcdnrpjobs.eventbrite.com&amp\;data=02%7C01%7CDan.Bernard%40kingcounty.gov%7Cd7c13c8eb0d4428b7cd908d688908288%7Cbae5059a76f049d7999672dfe95d69c7%7C0%7C0%7C636846551592405048&amp\;sdata=CzblfzqegbmFvHd3cqfP1ubPzk2LMhPUaDWzG%2FEhqE8%3D&amp\;reserved=0">www.kcdnrpjobs.eventbrite.com</a>\n\n<h3>Recruiting &amp\; Interviewing for Many Seasonal Job Openings&nbsp\;(April-Oct) located throughout King County:&nbsp\;</h3>\n\n<h3>&middot\;Seasonal Park Maintenance Jobs - $21.54/hr (locations in multiple East King County and South King County parks)</h3>\n\n<h3>&middot\;Wastewater Treatment Division Seasonal Grounds Helper Jobs - $21.03/hr (locations in Woodinville\, Seattle/Magnolia\, and Renton)&nbsp\;</h3>\n\n<h3>Some requirements for positions include but not limited to:</h3>\n\n<h3>&middot\;At least 18 years old</h3>\n\n<h3>&middot\;Valid Driver&#39\;s License</h3>\n\n<h3>&middot\;See job description\, locations\,&nbsp\;and requirements on the job posting @ <a href="https://na01.safelinks.protection.outlook.com/?url=https%3A%2F%2Fwww.governmentjobs.com%2Fcareers%2Fkingcounty%2Fjobs%2F2338389%2Fseasonal-park-maintenance-workers&amp\;data=02%7C01%7CDan.Bernard%40kingcounty.gov%7Cd7c13c8eb0d4428b7cd908d688908288%7Cbae5059a76f049d7999672dfe95d69c7%7C0%7C0%7C636846551592405048&amp\;sdata=C0DOjoCZuFYUSrvaw%2FFGHkcaq2En2NeoNiDSmWABtIE%3D&amp\;reserved=0" target="_blank">https://www.governmentjobs.com/careers/kingcounty/jobs/2338389/seasonal-park-maintenance-workers</a><br />\n<br />\nEvent partners:</h3>\n\n<h3>&middot\;King County Parks</h3>\n\n<h3>&middot\;King County Wastewater Treatment Division</h3>\n\n<h3>&middot\;WorkSource Seattle-King County</h3>\n\n<h3>&middot\;Communities of Opportunity</h3>\n
LOCATION:Renton Community Center 1715 Maple Valley Highway Renton\, WA
UID:e.2591.2840
SEQUENCE:3
DTSTAMP:20260424T110929Z
URL:http://seattlesouthsidechamber.com/events/details/recruiting-interview-event-for-king-county-dept-of-natural-resources-parks-seasonal-jobs-april-oct-2840
END:VEVENT

END:VCALENDAR
