BEGIN:VCALENDAR
VERSION:2.0
PRODID:-//ChamberMaster//Event Calendar 2.0//EN
METHOD:PUBLISH
X-PUBLISHED-TTL:P3D
REFRESH-INTERVAL:P3D
CALSCALE:GREGORIAN
BEGIN:VEVENT
DTSTART:20181021T023000Z
DTEND:20181021T040000Z
X-MICROSOFT-CDO-ALLDAYEVENT:FALSE
SUMMARY:Rainier Symphony at Foster Performing Arts Center
DESCRIPTION:This concert features pieces that highlight the work of quintessential American composers from the 20th century\, and music that explores the first impressions of the American experience through the lens of the European musical tradition. Join us on this road trip through the United States and hear the many sounds and voices of America.
X-ALT-DESC;FMTTYPE=text/html:<span style="color: rgb(0\, 0\, 0)\; font-family: Arial\, sans-serif\; font-size: 15.2px\;">This concert features pieces that highlight the work of quintessential American composers from the 20th century\, and music that explores the first impressions of the American experience through the lens of the European musical tradition. Join us on this road trip through the United States and hear the many sounds and voices of America.</span>
LOCATION:Foster Performing Arts Center Foster High School 4242 S 144th St\, Tukwila.
UID:e.2591.2581
SEQUENCE:3
DTSTAMP:20260424T203240Z
URL:http://seattlesouthsidechamber.com/events/details/rainier-symphony-at-foster-performing-arts-center-2581
END:VEVENT

END:VCALENDAR
