BEGIN:VCALENDAR
VERSION:2.0
PRODID:-//ChamberMaster//Event Calendar 2.0//EN
METHOD:PUBLISH
X-PUBLISHED-TTL:P3D
REFRESH-INTERVAL:P3D
CALSCALE:GREGORIAN
BEGIN:VEVENT
DTSTART:20181110T190000Z
DTEND:20181110T230000Z
X-MICROSOFT-CDO-ALLDAYEVENT:FALSE
SUMMARY:Rainier Golf & Country Club Holiday Bazaar
DESCRIPTION:Join us to kick start your holiday season! Come take a stroll through our local vendors offering a wide variety of items. Stop in to do some buying for family\, friends\, or maybe even pick up a treat for yourself. Shopping will be open from 11:00 am - 3:00 pm. We'll have hosted light hors d'oeuvres and some holiday cheer! Rainier's Atrium Room will be available for all guests to purchase lunch before\, during or after your shopping.
X-ALT-DESC;FMTTYPE=text/html:Join us to kick start your holiday season! Come take a stroll through our local vendors offering a wide variety of items. Stop in to do some buying for family\, friends\, or maybe even pick up a treat for yourself. Shopping will be open from 11:00 am - 3:00 pm. We&#39\;ll have hosted light hors d&#39\;oeuvres and some holiday cheer! Rainier&#39\;s Atrium Room will be available for all guests to purchase lunch before\, during or after your shopping.
LOCATION:Rainier Golf & Country Club 11133 Des Moines Memorial Drive South Seattle\, WA 98168
UID:e.2591.2602
SEQUENCE:3
DTSTAMP:20260424T173227Z
URL:http://seattlesouthsidechamber.com/events/details/rainier-golf-country-club-holiday-bazaar-2602
END:VEVENT

END:VCALENDAR
