BEGIN:VCALENDAR
VERSION:2.0
PRODID:-//ChamberMaster//Event Calendar 2.0//EN
METHOD:PUBLISH
X-PUBLISHED-TTL:P3D
REFRESH-INTERVAL:P3D
CALSCALE:GREGORIAN
BEGIN:VEVENT
DTSTART:20181012T013000Z
DTEND:20181012T030000Z
X-MICROSOFT-CDO-ALLDAYEVENT:FALSE
SUMMARY:Public showing of Influential Women of Washington State
DESCRIPTION:You are invited to the first open public showing of Influential Women of Washington State (IWOW). \n\nBellevue College created a brand-new TV series exploring Women owning their seat at the decision-making table. \n\nGuest includes: Chief of Police Carmen Best\, Lisa Chin\, President of Boys & Girls Club of King County\, Justice Mary Yu\, Washington State Supreme Court and many more dynamic Washington state powerhouse women.
X-ALT-DESC;FMTTYPE=text/html:<p style="line-height:13.5pt"><span style="font-size:10.0pt\;font-family:&quot\;Helvetica&quot\;\,sans-serif\;\ncolor:#45494E">You are invited to the first open public showing of Influential Women of Washington State (IWOW). <o:p></o:p></span></p>\n\n<p style="line-height:13.5pt"><span style="font-size:10.0pt\;font-family:&quot\;Helvetica&quot\;\,sans-serif\;\ncolor:#45494E">Bellevue College created a brand-new TV series exploring Women owning their seat at the decision-making table. <o:p></o:p></span></p>\n\n<p style="line-height:13.5pt"><strong><span style="font-size:10.0pt\;font-family:\n&quot\;Helvetica&quot\;\,sans-serif\;color:#45494E">Guest includes: Chief of Police Carmen Best\, Lisa Chin\, President of Boys &amp\; Girls Club of King County\, Justice Mary Yu\, Washington State Supreme Court and many more dynamic Washington state powerhouse women.&nbsp\;</span></strong><span style="font-size:10.0pt\;\nfont-family:&quot\;Helvetica&quot\;\,sans-serif\;color:#45494E"><o:p></o:p></span></p>\n
LOCATION:Bellevue College 3000 Landerholm Circle Southeast Bellevue\, WA 98007
UID:e.2591.2565
SEQUENCE:3
DTSTAMP:20260424T191008Z
URL:http://seattlesouthsidechamber.com/events/details/public-showing-of-influential-women-of-washington-state-2565
END:VEVENT

END:VCALENDAR
