BEGIN:VCALENDAR
VERSION:2.0
PRODID:-//ChamberMaster//Event Calendar 2.0//EN
METHOD:PUBLISH
X-PUBLISHED-TTL:P3D
REFRESH-INTERVAL:P3D
CALSCALE:GREGORIAN
BEGIN:VEVENT
DTSTART:20190221T020000Z
DTEND:20190221T040000Z
X-MICROSOFT-CDO-ALLDAYEVENT:FALSE
SUMMARY:Public Electric Vehicle Charging Open House
DESCRIPTION:Seattle City Light and the City of Burien invite community members to an open house on Wednesday\, February 20 to learn about the utility's proposal to install a public electric vehicle (EV) charging station.\n\nBurien has been identified as a site for a direct current (DC) fast charger. This unit can charge most electric vehicles for approximately 80+ miles of range in 30 minutes.\n\nOpen House Details\n\n	The City Light EV project team will be able to answer questions about the program. The public is encouraged to drop in anytime during the open house hours.\n	Parking is available at the Burien Community Center.\n	Interpretation services will be provided in Spanish and Vietnamese.\n	Complimentary bus vouchers will be provided. Transfer tickets are required as proof of purchase.\n	Refreshments will be provided. Activities will be available for children at the open house.\n	\n	For more information\, please contact:\n	\n	Seattle City Light Public EV Charging Team\n\n	SCL_ElectricVehicles@seattle.gov\n\n	(206) 684-3800\n\n	seattle.gov/light/electric-vehicles\n	Mary Eidmann   City of Burien\n\n	Environmental Education Specialist\n\n	marye@burienwa.gov\n\n	(206) 248-5511
X-ALT-DESC;FMTTYPE=text/html:Seattle City Light and the City of Burien invite community members to an open house on Wednesday\, February 20 to learn about the utility&rsquo\;s proposal to install a public electric vehicle (EV) charging station.<br />\nBurien has been identified as a site for a direct current (DC) fast charger. This unit can charge most electric vehicles for approximately 80+ miles of range in 30 minutes.<br />\nOpen House Details\n<ul>\n	<li>The City Light EV project team will be able to answer questions about the program. The public is encouraged to drop in anytime during the open house hours.</li>\n	<li>Parking is available at the Burien Community Center.</li>\n	<li>Interpretation services will be provided in Spanish and Vietnamese.</li>\n	<li>Complimentary bus vouchers will be provided. Transfer tickets are required as proof of purchase.</li>\n	<li>Refreshments will be provided. Activities will be available for children at the open house.</li>\n	<li>\n	<p>For more information\, please contact:</p>\n	</li>\n	<li>Seattle City Light Public EV Charging Team<br />\n	<a href="mailto:SCL_ElectricVehicles@seattle.gov">SCL_ElectricVehicles@seattle.gov</a><br />\n	(206) 684-3800<br />\n	<a href="http://seattle.gov/light/electric-vehicles" rel="noopener" target="_blank">seattle.gov/light/electric-vehicles</a></li>\n	<li>Mary Eidmann &ndash\; City of Burien<br />\n	Environmental Education Specialist<br />\n	<a href="mailto:marye@burienwa.gov">marye@burienwa.gov</a><br />\n	(206) 248-5511</li>\n</ul>\n
LOCATION:Burien Community Center Lakeview Room 14700 6th Avenue SW\, Burien\, WA 98166
UID:e.2591.2833
SEQUENCE:3
DTSTAMP:20260424T140810Z
URL:http://seattlesouthsidechamber.com/events/details/public-electric-vehicle-charging-open-house-2833
END:VEVENT

END:VCALENDAR
