BEGIN:VCALENDAR
VERSION:2.0
PRODID:-//ChamberMaster//Event Calendar 2.0//EN
METHOD:PUBLISH
X-PUBLISHED-TTL:P3D
REFRESH-INTERVAL:P3D
CALSCALE:GREGORIAN
BEGIN:VEVENT
DTSTART:20190126T230000Z
DTEND:20190127T030000Z
X-MICROSOFT-CDO-ALLDAYEVENT:FALSE
SUMMARY:Proliance Bone and Joint Urgent Care Grand Opening
DESCRIPTION:Proliance Orthopedic Associates is proud to offer a new Bone and Joint Urgent Care to provide same-day orthopedic care to treat patients with acute injuries and orthopedic conditions. Join them in a Grand Opening Celebration on Saturday\, January 26th from 3-7 pm.
X-ALT-DESC;FMTTYPE=text/html:<div>Proliance Orthopedic Associates is proud to offer a new Bone and Joint Urgent Care to provide same-day orthopedic care to treat patients with acute injuries and orthopedic conditions. Join them in a Grand Opening Celebration on Saturday\, January 26th from 3-7 pm.</div>\n
LOCATION:Proliance Bone and Joint Urgent Care 150 Andover Park W Tukwila\, WA 98188
UID:e.2591.2751
SEQUENCE:3
DTSTAMP:20260424T141032Z
URL:http://seattlesouthsidechamber.com/events/details/proliance-bone-and-joint-urgent-care-grand-opening-2751
END:VEVENT

END:VCALENDAR
