BEGIN:VCALENDAR
VERSION:2.0
PRODID:-//ChamberMaster//Event Calendar 2.0//EN
METHOD:PUBLISH
X-PUBLISHED-TTL:P3D
REFRESH-INTERVAL:P3D
CALSCALE:GREGORIAN
BEGIN:VEVENT
DTSTART:20181018T233000Z
DTEND:20181019T013000Z
X-MICROSOFT-CDO-ALLDAYEVENT:FALSE
SUMMARY:Portraits of Providence ElderPlace
DESCRIPTION:Providence ElderPlace West Seattle will host "Portraits of Providence ElderPlace\," an exhibit of black and white portraits of its participants\, caregivers and volunteers. An open house for the community will be held 4:30 to 6:30 p.m. Oct. 18\, 2018\, at Providence Mount St. Vincent\, 4831 35th Ave. SW Seattle. The photos were created by former Providence ElderPlace Medical Director Dr. Terry Rogers\, M.D. Providence ElderPlace West Seattle is a stand-alone program housed at Providence Mount St. Vincent assisted living and skilled nursing home. It offers West and South Seattle residents an innovative program that provides medical care and social services to seniors who wish to continue to live in the community\, thus avoiding or minimizing stays in hospitals and nursing homes. For more information about the photograph show contact Jill Leon at 206-430-0266 or jill.leon@providence.org. To learn more about Providence ElderPlace\, contact Jenny Kentta at 206-320-5325 or jenny.kentta@providence.org.
X-ALT-DESC;FMTTYPE=text/html:Providence ElderPlace West Seattle will host &ldquo\;Portraits of Providence ElderPlace\,&rdquo\; an exhibit of black and white portraits of its participants\, caregivers and volunteers. An open house for the community will be held 4:30 to 6:30 p.m. Oct. 18\, 2018\, at Providence Mount St. Vincent\, 4831 35th Ave. SW Seattle. The photos were created by former Providence ElderPlace Medical Director Dr. Terry Rogers\, M.D. Providence ElderPlace West Seattle is a stand-alone program housed at Providence Mount St. Vincent assisted living and skilled nursing home. It offers West and South Seattle residents an innovative program that provides medical care and social services to seniors who wish to continue to live in the community\, thus avoiding or minimizing stays in hospitals and nursing homes. For more information about the photograph show contact Jill Leon at 206-430-0266 or jill.leon@providence.org. To learn more about Providence ElderPlace\, contact Jenny Kentta at 206-320-5325 or jenny.kentta@providence.org.
LOCATION:Providence Mount St. Vincent\, 4831 35th Ave. SW Seattle\, 98126
UID:e.2591.2543
SEQUENCE:3
DTSTAMP:20260424T185435Z
URL:http://seattlesouthsidechamber.com/events/details/portraits-of-providence-elderplace-2543
END:VEVENT

END:VCALENDAR
