BEGIN:VCALENDAR
VERSION:2.0
PRODID:-//ChamberMaster//Event Calendar 2.0//EN
METHOD:PUBLISH
X-PUBLISHED-TTL:P3D
REFRESH-INTERVAL:P3D
CALSCALE:GREGORIAN
BEGIN:VEVENT
DTSTART:20180912T224500Z
DTEND:20180913T013000Z
X-MICROSOFT-CDO-ALLDAYEVENT:FALSE
SUMMARY:Port of Seattle's Ship Canal 101
DESCRIPTION:The Lake Washington Ship Canal is a bustling center of maritime activity. Learn about the many diverse maritime industry businesses and support services that make Seattle a thriving hub for commercial fishing\, boat repair and maintenance\, and transportation between Alaska and the Lower 48 states. \n\nPartners: Ballard Oil\, Pacific Fishermen Shipyard\, Washington Maritime Federation\, NOAA Fisheries\, American Waterways Operators\, and the U.S. Army Corps of Engineers.
X-ALT-DESC;FMTTYPE=text/html:<p class="gdp" style="margin-top:0in\;margin-right:0in\;margin-bottom:7.5pt\;\nmargin-left:0in\;line-height:140%"><span style="font-size:10.5pt\;line-height:\n140%\;font-family:&quot\;Arial&quot\;\,sans-serif\;color:#5F5F5F">The Lake Washington Ship Canal is a bustling center of maritime activity. Learn about the many diverse maritime industry businesses and support services that make Seattle a thriving hub for commercial fishing\, boat repair and maintenance\, and transportation between Alaska and the Lower 48 states.&nbsp\;<o:p></o:p></span></p>\n\n<p class="gdp" style="margin-top:0in\;margin-right:0in\;margin-bottom:7.5pt\;\nmargin-left:0in\;line-height:140%"><b><span style="font-size:10.5pt\;line-height:\n140%\;font-family:&quot\;Arial&quot\;\,sans-serif\;color:#5F5F5F">Partners</span></b><span style="font-size:10.5pt\;line-height:140%\;font-family:&quot\;Arial&quot\;\,sans-serif\;\ncolor:#5F5F5F">: Ballard Oil\, Pacific Fishermen Shipyard\, Washington Maritime Federation\, NOAA Fisheries\, American Waterways Operators\, and the U.S. Army Corps of Engineers.<o:p></o:p></span></p>\n
LOCATION:Fishermen's Terminal
UID:e.2591.2302
SEQUENCE:3
DTSTAMP:20260424T203919Z
URL:http://seattlesouthsidechamber.com/events/details/port-of-seattle-s-ship-canal-101-2302
END:VEVENT

END:VCALENDAR
