BEGIN:VCALENDAR
VERSION:2.0
PRODID:-//ChamberMaster//Event Calendar 2.0//EN
METHOD:PUBLISH
X-PUBLISHED-TTL:P3D
REFRESH-INTERVAL:P3D
CALSCALE:GREGORIAN
BEGIN:VEVENT
DTSTART:20180906T224500Z
DTEND:20180907T013000Z
X-MICROSOFT-CDO-ALLDAYEVENT:FALSE
SUMMARY:Port of Seattle's Duwamish River 101
DESCRIPTION:The five-mile-long Duwamish Waterway is important for commerce and jobs\, fish and wildlife habitat\, and public shoreline use areas. Learn about marine industrial commerce\, the legacy of past industrial activities\, fish and wildlife habitat restoration\, and Superfund cleanup plans.
X-ALT-DESC;FMTTYPE=text/html:<p class="gdp" style="margin-top:0in\;margin-right:0in\;margin-bottom:7.5pt\;\nmargin-left:0in\;line-height:140%"><span style="font-size:10.5pt\;line-height:\n140%\;font-family:&quot\;Arial&quot\;\,sans-serif\;color:#5F5F5F">The five-mile-long Duwamish Waterway is important for commerce and jobs\, fish and wildlife habitat\, and public shoreline use areas. Learn about marine industrial commerce\, the legacy of past industrial activities\, fish and wildlife habitat restoration\, and Superfund cleanup plans.<o:p></o:p></span></p>\n
LOCATION:Bell Harbor Marina\, Pier 66
UID:e.2591.2301
SEQUENCE:3
DTSTAMP:20260424T203935Z
URL:http://seattlesouthsidechamber.com/events/details/port-of-seattle-s-duwamish-river-101-2301
END:VEVENT

END:VCALENDAR
