BEGIN:VCALENDAR
VERSION:2.0
PRODID:-//ChamberMaster//Event Calendar 2.0//EN
METHOD:PUBLISH
X-PUBLISHED-TTL:P3D
REFRESH-INTERVAL:P3D
CALSCALE:GREGORIAN
BEGIN:VEVENT
DTSTART:20180927T224500Z
DTEND:20180928T013000Z
X-MICROSOFT-CDO-ALLDAYEVENT:FALSE
SUMMARY:Port of Seattle's Cargo 101
DESCRIPTION:Tour Terminal 18 and learn about the movement of cargo from ship to truck to train. Hear longshore workers\, and stevedores describe their roles in the supply chain and visit the BNSF intermodal rail yard to learn how shipping containers move between the port and the interior of the country.
X-ALT-DESC;FMTTYPE=text/html:<p class="gdp" style="margin-top:0in\;margin-right:0in\;margin-bottom:7.5pt\;\nmargin-left:0in\;line-height:140%"><span style="font-size:10.5pt\;line-height:\n140%\;font-family:&quot\;Arial&quot\;\,sans-serif\;color:#5F5F5F">Tour Terminal 18 and learn about the movement of cargo from ship to truck to train. Hear longshore workers\, and stevedores describe their roles in the supply chain and visit the BNSF intermodal rail yard to learn how shipping containers move between the port and the interior of the country.<o:p></o:p></span></p>\n
LOCATION:Port Headquarters\, Pier 69
UID:e.2591.2304
SEQUENCE:3
DTSTAMP:20260424T220621Z
URL:http://seattlesouthsidechamber.com/events/details/port-of-seattle-s-cargo-101-2304
END:VEVENT

END:VCALENDAR
