BEGIN:VCALENDAR
VERSION:2.0
PRODID:-//ChamberMaster//Event Calendar 2.0//EN
METHOD:PUBLISH
X-PUBLISHED-TTL:P3D
REFRESH-INTERVAL:P3D
CALSCALE:GREGORIAN
BEGIN:VEVENT
DTSTART:20180920T224500Z
DTEND:20180921T013000Z
X-MICROSOFT-CDO-ALLDAYEVENT:FALSE
SUMMARY:Port of Seattle's Airport 101
DESCRIPTION:Sea-Tac Airport is the ninth busiest airport in the country. Learn about important projects that will help accommodate the growing regional demand at Sea-Tac: the new International Arrivals Facility\, the modernization of the North Satellite\, and the master planning effort to meet growth objectives in a sustainable manner. And meet the dogs who keep the airport safe for travelers and open for commerce.\n\nPartners: U.S. Customs and Border Protection (CBP) and the Transportation Security Administration (TSA).
X-ALT-DESC;FMTTYPE=text/html:<p class="gdp" style="margin-top:0in\;margin-right:0in\;margin-bottom:7.5pt\;\nmargin-left:0in\;line-height:140%"><span style="font-size:10.5pt\;line-height:\n140%\;font-family:&quot\;Arial&quot\;\,sans-serif\;color:#5F5F5F">Sea-Tac Airport is the ninth busiest airport in the country. Learn about important projects that will help accommodate the growing regional demand at Sea-Tac: the new International Arrivals Facility\, the modernization of the North Satellite\, and the master planning effort to meet growth objectives in a sustainable manner. And meet the dogs who keep the airport safe for travelers and open for commerce.<o:p></o:p></span></p>\n\n<p class="gdp" style="margin-top:0in\;margin-right:0in\;margin-bottom:7.5pt\;\nmargin-left:0in\;line-height:140%"><b><span style="font-size:10.5pt\;line-height:\n140%\;font-family:&quot\;Arial&quot\;\,sans-serif\;color:#5F5F5F">Partners</span></b><span style="font-size:10.5pt\;line-height:140%\;font-family:&quot\;Arial&quot\;\,sans-serif\;\ncolor:#5F5F5F">: U.S. Customs and Border Protection (CBP) and the Transportation Security Administration (TSA).<o:p></o:p></span></p>\n
LOCATION:Seattle-Tacoma International Airport
UID:e.2591.2303
SEQUENCE:3
DTSTAMP:20260424T204315Z
URL:http://seattlesouthsidechamber.com/events/details/port-of-seattle-s-airport-101-2303
END:VEVENT

END:VCALENDAR
