BEGIN:VCALENDAR
VERSION:2.0
PRODID:-//ChamberMaster//Event Calendar 2.0//EN
METHOD:PUBLISH
X-PUBLISHED-TTL:P3D
REFRESH-INTERVAL:P3D
CALSCALE:GREGORIAN
BEGIN:VEVENT
DTSTART:20190212T200000Z
DTEND:20190212T220000Z
X-MICROSOFT-CDO-ALLDAYEVENT:FALSE
SUMMARY:Port of Seattle Open Session Committee Meeting
DESCRIPTION:Canceled due to snow storm. The Port of Seattle will be sharing the Scoping report with Port of Seattle Commissioners and the public.\n\nFollowing the Commission meeting on February 12 the Scoping report will be available on:\n\nbuff.ly/2t901qk
X-ALT-DESC;FMTTYPE=text/html:<span style="color: rgb(29\, 33\, 41)\; font-family: Helvetica\, Arial\, sans-serif\; font-size: 14px\;"><strong>Canceled due to snow storm.</strong> The Port of Seattle will be sharing the Scoping report with Port of Seattle Commissioners and the public.</span>\n\n<p style="margin: 0px 0px 6px\; color: rgb(29\, 33\, 41)\; font-family: Helvetica\, Arial\, sans-serif\; font-size: 14px\;">Following the Commission meeting on February 12 the Scoping report will be available on:</p>\n\n<p style="margin: 6px 0px\; color: rgb(29\, 33\, 41)\; font-family: Helvetica\, Arial\, sans-serif\; font-size: 14px\;"><a data-ft="{&quot\;tn&quot\;:&quot\;-U&quot\;}" data-lynx-mode="asynclazy" data-lynx-uri="https://l.facebook.com/l.php?u=http%3A%2F%2Fbuff.ly%2F2t901qk&amp\;h=AT0S_bTbw1wlq2oo9i8I8mYDVWo3XacLuaLkiIiy5-QY_YM0mkzczq1o5oJx9KlfUQQHoP8kp27j7BWkdgHI6w0YeIb9c_NGxq0B2gEG1fCc0GXB6HAP7dH9e6wVsVpGu8CMFTKxP-J42fC-jqF4w3eIV8j_dMIqBjkBmDqLqnHoVBkR7D9wzItyqqvAZHYw6SI" href="http://buff.ly/2t901qk" rel="nofollow" style="color: rgb(54\, 88\, 153)\; cursor: pointer\; text-decoration-line: none\;" target="_blank">buff.ly/2t901qk</a></p>\n
LOCATION:Sea-Tac Airport 17801 International Blvd\, Seattle\, WA 98158 Conference Center on the Mezzanine level above the Gina Marie Lindsey Arrival Hall
UID:e.2591.2827
SEQUENCE:3
DTSTAMP:20260424T141228Z
URL:http://seattlesouthsidechamber.com/events/details/port-of-seattle-open-session-committee-meeting-2827
END:VEVENT

END:VCALENDAR
