BEGIN:VCALENDAR
VERSION:2.0
PRODID:-//ChamberMaster//Event Calendar 2.0//EN
METHOD:PUBLISH
X-PUBLISHED-TTL:P3D
REFRESH-INTERVAL:P3D
CALSCALE:GREGORIAN
BEGIN:VEVENT
DTSTART:20190112T170000Z
DTEND:20190112T200000Z
X-MICROSOFT-CDO-ALLDAYEVENT:FALSE
SUMMARY:Port of Seattle Noise 101 Symposium
DESCRIPTION:The City of SeaTac and Port of Seattle invite all to attend a 'Noise 101 Symposium' on Saturday\, Jan. 12\, led by Steve Alverson\, National Director of ESA Airports\, a national consulting firm specializing in noise\, environmental and aviation planning services.\n\n\n\nThe instructor of the course is Steve Alverson\, National Director of ESA Airports\, a national consulting firm specializing in noise\, environmental and aviation planning services. Steve offers course participants 37 years of aircraft noise analysis and control experience at many of the busiest airports in the United States. Steve has work both as a consultant and as a member of airport staff serving as the City and County of Denver's Airport Noise Officer. He frequently gives university-level lectures on aircraft noise and land use compatibility planning. \n\n\n\nThis event is cohosted by City of SeaTac and the Port of Seattle. This ticketed event is open to the public. Anyone wishing to attend must RSVP by Tuesday January 8\, 2019
X-ALT-DESC;FMTTYPE=text/html:The City of SeaTac and Port of Seattle invite all to attend a &lsquo\;Noise 101 Symposium&rsquo\; on Saturday\, Jan. 12\, led by Steve Alverson\, National Director of ESA Airports\, a national consulting firm specializing in noise\, environmental and aviation planning services.<br />\n<br />\nThe instructor of the course is Steve Alverson\, National Director of ESA Airports\, a national consulting firm specializing in noise\, environmental and aviation planning services. Steve offers course participants 37 years of aircraft noise analysis and control experience at many of the busiest airports in the United States. Steve has work both as a consultant and as a member of airport staff serving as the City and County of Denver&rsquo\;s Airport Noise Officer. He frequently gives university-level lectures on aircraft noise and land use compatibility planning.&nbsp\;<br />\n<br />\nThis event is cohosted by City of SeaTac and the Port of Seattle. This ticketed event is open to the public. Anyone wishing to attend must RSVP by Tuesday January 8\, 2019&nbsp\;
LOCATION:Tyee High School Cafeteria 4424 S. 188th Street SeaTac\, WA 98188
UID:e.2591.2750
SEQUENCE:3
DTSTAMP:20260424T141123Z
URL:http://seattlesouthsidechamber.com/events/details/port-of-seattle-noise-101-symposium-2750
END:VEVENT

END:VCALENDAR
