BEGIN:VCALENDAR
VERSION:2.0
PRODID:-//ChamberMaster//Event Calendar 2.0//EN
METHOD:PUBLISH
X-PUBLISHED-TTL:P3D
REFRESH-INTERVAL:P3D
CALSCALE:GREGORIAN
BEGIN:VEVENT
DTSTART:20181031T143000Z
DTEND:20181031T163000Z
X-MICROSOFT-CDO-ALLDAYEVENT:FALSE
SUMMARY:Port Jobs 25th Anniversary Breakfast
DESCRIPTION:Join Port Jobs their 25th Anniversary Breakfast\, commemorating a quarter century of impact\, memories\, and milestones. We are gathering to recognize our founders\, partners\, clients and team members for making this milestone and our impact of over 25\,000 job placements possible.\n\n\n\nYour support over the past 25 years has made Port Jobs and our programs including our Airport Jobs Center at Sea-Tac Airport and Airport University a true success. We look forward to seeing you!
X-ALT-DESC;FMTTYPE=text/html:<span style="font-family:arial\,sans-serif\;"><span style="font-size:12.0pt\;">Join Port Jobs their<strong>&nbsp\;25th Anniversary Breakfast</strong>\, commemorating a quarter century of impact\, memories\, and milestones. We are gathering to recognize our founders\, partners\, clients and team members for making this milestone and our impact of over <strong>25\,000 job placements</strong> possible.<br />\n<br />\nYour support over the past 25 years has made Port Jobs and our programs including our Airport Jobs Center at Sea-Tac Airport and Airport University a true success. We look forward to seeing you!</span></span>
LOCATION:Bell Harbor International Conference Center 2211 Alaskan Way\, Seattle\, WA 98121
UID:e.2591.2574
SEQUENCE:3
DTSTAMP:20260424T185409Z
URL:http://seattlesouthsidechamber.com/events/details/port-jobs-25th-anniversary-breakfast-2574
END:VEVENT

END:VCALENDAR
