BEGIN:VCALENDAR
VERSION:2.0
PRODID:-//ChamberMaster//Event Calendar 2.0//EN
METHOD:PUBLISH
X-PUBLISHED-TTL:P3D
REFRESH-INTERVAL:P3D
CALSCALE:GREGORIAN
BEGIN:VEVENT
DTSTART:20181109T180000Z
DTEND:20181225T050000Z
X-MICROSOFT-CDO-ALLDAYEVENT:FALSE
SUMMARY:Photos with Santa at Westfield Southcenter
DESCRIPTION:It's the most wonderful time of the year! Santa will be at Westfield Southcenter to hear Christmas wishes and take keepsake photos from Friday\, November 9 - Christmas Eve (Monday\, December 24 at 6pm). Reserve your spot today to dash ahead of the line...your family will be grinning all the way to the North Pole.
X-ALT-DESC;FMTTYPE=text/html:<span style="box-sizing: border-box\; font-weight: 600\; font-family: &quot\;Open Sans Semibold&quot\;\, sans-serif\; color: rgb(34\, 34\, 34)\; font-size: 16px\;">It&#39\;s the most wonderful time of the year!</span><span style="color: rgb(34\, 34\, 34)\; font-family: &quot\;Open Sans&quot\;\, sans-serif\; font-size: 16px\;">&nbsp\;Santa will be at Westfield Southcenter to hear Christmas wishes and take keepsake photos from Friday\, November 9 - Christmas Eve (Monday\, December 24 at 6pm). Reserve your spot today to dash ahead of the line...your family will be grinning all the way to the North Pole.</span>
LOCATION:Westfield Southcenter 2800 Southcenter Mall\, Tukwila\, WA 98188 Santa will be located on the first level in Macy's Court\, near the Disney Store.
UID:e.2591.2597
SEQUENCE:3
DTSTAMP:20260424T155156Z
URL:http://seattlesouthsidechamber.com/events/details/photos-with-santa-at-westfield-southcenter-2597
END:VEVENT

END:VCALENDAR
