BEGIN:VCALENDAR
VERSION:2.0
PRODID:-//ChamberMaster//Event Calendar 2.0//EN
METHOD:PUBLISH
X-PUBLISHED-TTL:P3D
REFRESH-INTERVAL:P3D
CALSCALE:GREGORIAN
BEGIN:VEVENT
DTSTART:20190115T203000Z
DTEND:20190115T220000Z
X-MICROSOFT-CDO-ALLDAYEVENT:FALSE
SUMMARY:Paid Family Medical Leave Webinar
DESCRIPTION:Are you compliant? New program means new reporting requirements in 2019\n\n\n\nPaid Family and Medical Leave is a mandatory insurance program that allows employees to take up to 12 weeks of paid leave to care for themselves or their family members during serious illness or injury. While employees cannot begin taking this benefit until 2020\, employers must begin reporting employees' wages and hours in 2019.\n\nWe are proud to bring you an informative webinar from the Washington State Department of Employment Security. You may join this webinar remotely\, or join us in person at our office to participate in the webinar with a larger group.
X-ALT-DESC;FMTTYPE=text/html:<p>Are you compliant? New program means new reporting requirements in 2019<br />\n<br />\nPaid Family and Medical Leave is a mandatory insurance program that allows employees to take up to 12 weeks of paid leave to care for themselves or their family members during serious illness or injury. While employees cannot begin taking this benefit until 2020\, employers must begin reporting employees&rsquo\; wages and hours in 2019.</p>\n\n<p>We are proud to bring you an informative webinar from the Washington State Department of Employment Security. You may join this webinar remotely\, or join us in person at our office to participate in the webinar with a larger group.&nbsp\;</p>\n
LOCATION:All Things HR\, LLC 4210 198th St SW Lynnwood\, WA 98036
UID:e.2591.2642
SEQUENCE:3
DTSTAMP:20260424T141051Z
URL:http://seattlesouthsidechamber.com/events/details/paid-family-medical-leave-webinar-2642
END:VEVENT

END:VCALENDAR
