BEGIN:VCALENDAR
VERSION:2.0
PRODID:-//ChamberMaster//Event Calendar 2.0//EN
METHOD:PUBLISH
X-PUBLISHED-TTL:P3D
REFRESH-INTERVAL:P3D
CALSCALE:GREGORIAN
BEGIN:VEVENT
DTSTART;VALUE=DATE:20180830
DTEND;VALUE=DATE:20181013
TRANSP:TRANSPARENT
X-MICROSOFT-CDO-ALLDAYEVENT:TRUE
SUMMARY:Oodles of Noodles Challenge
DESCRIPTION:One of the most needed food items on the menu is Cup of Noodles. Help stock the larder with Oodles of Noodles this Fall.\n\nJoin the Oodles of Noodles Challenge!\n\nYour generous donations will help us feed Tukwila kids that struggle with housing and food insecurity. Please promote this challenge at your workplace\, among your friends & family\, with your community group\, or at your house of worship. Challenge ends October 12\, 2018.
X-ALT-DESC;FMTTYPE=text/html:One of the most needed food items on the menu is Cup of Noodles. Help stock the larder with Oodles of Noodles this Fall.<br />\nJoin the Oodles of Noodles Challenge!<br />\nYour generous donations will help us feed Tukwila kids that struggle with housing and food insecurity. Please promote this challenge at your workplace\, among your friends &amp\; family\, with your community group\, or at your house of worship. Challenge ends October 12\, 2018.
LOCATION:To find out a drop off location or to arrange for pick up\, contact Jenny McCoy at tuksnackpack@gmail.com or call at 206.717.4709.
UID:e.2591.2489
SEQUENCE:3
DTSTAMP:20260424T185403Z
URL:http://seattlesouthsidechamber.com/events/details/oodles-of-noodles-challenge-2489
END:VEVENT

END:VCALENDAR
