BEGIN:VCALENDAR
VERSION:2.0
PRODID:-//ChamberMaster//Event Calendar 2.0//EN
METHOD:PUBLISH
X-PUBLISHED-TTL:P3D
REFRESH-INTERVAL:P3D
CALSCALE:GREGORIAN
BEGIN:VEVENT
DTSTART:20171001T203000Z
DTEND:20171001T230000Z
X-MICROSOFT-CDO-ALLDAYEVENT:FALSE
SUMMARY:Oktoberfest Open House - Wesley Homes
DESCRIPTION:Wesley Homes is changing! Come to our Open House to see how we're revolutionizing senior living!\n\nIn 2014\, Wesley Homes announced plans for a multi-year\, multi-phase redevelopment of the Des Moines campus. The first phase started construction at the end of 2016 and is projected to be completed in July 2018. Now\, we are getting ready for Phase 2 and the replacement of the Gardens building. Plans for the common areas will be unveiled during Open House while floor plans and pricing for these new apartments are on track to be available in early 2018.\n\n"People are already getting on the reservation list for the new building\," said Redevelopment Community Relations Director Rob Lanouette. "There is a lot of excitement for the new building and the choices it will offer for amenities."\n\nNow you have a chance to explore the new Wesley Homes with friends and family by joining us for an Oktoberfest-themed open house! Enjoy a Bavarian spread and take a self-guided tour of Wesley's brand new Cottage homes and renovated social areas in The Terrace\, including the Creative Arts Studio and Rainier Bistro.\n\nBe the first to know what's coming next. This event is the perfect opportunity to learn about everything going on at Wesley Homes\, including the redevelopment in Des Moines\, the new Wesley Homes Bradley Park campus in Puyallup and plans for a Wesley campus in the Fairwood/Renton community.\n\nComplete a self-guided tour passport during the event\, and be entered to win a trip to Leavenworth valued at $500!\n\nSee you at the Wesley Homes Oktoberfest Open House!\n\nWhen: Sunday\, October 1\, 1:30-4:00 p.m.\n\nWhere: Wesley Homes Des Moines\n\n816 S. 216th Street\, Des Moines\, WA 98198\n\nRSVP for the open house on their website or call 206.824.5000
X-ALT-DESC;FMTTYPE=text/html:<p class="lead" style="box-sizing: border-box\; margin: 0px 0px 30px\; padding: 0px\; font-family: &quot\;Open Sans&quot\;\, &quot\;Helvetica Neue&quot\;\, Helvetica\, Helvetica\, Arial\, sans-serif\; font-size: 26px\; line-height: 1.4\; text-rendering: optimizeLegibility\; color: rgb(128\, 128\, 128)\;">Wesley Homes is changing! Come to our Open House to see how we&rsquo\;re revolutionizing senior living!</p>\n\n<p style="box-sizing: border-box\; margin: 0px 0px 1.25rem\; padding: 0px\; font-family: &quot\;Open Sans&quot\;\, &quot\;Helvetica Neue&quot\;\, Helvetica\, Helvetica\, Arial\, sans-serif\; font-size: 1.1rem\; line-height: 1.8\; text-rendering: optimizeLegibility\; color: rgb(34\, 34\, 34)\;">In 2014\, Wesley Homes announced plans for a multi-year\, multi-phase redevelopment of the Des Moines campus. The first phase started construction at the end of 2016 and is projected to be completed in July 2018. Now\, we are getting ready for Phase 2 and the replacement of the Gardens building. Plans for the common areas will be unveiled during Open House while floor plans and pricing for these new apartments are on track to be available in early 2018.</p>\n\n<p style="box-sizing: border-box\; margin: 0px 0px 1.25rem\; padding: 0px\; font-family: &quot\;Open Sans&quot\;\, &quot\;Helvetica Neue&quot\;\, Helvetica\, Helvetica\, Arial\, sans-serif\; font-size: 1.1rem\; line-height: 1.8\; text-rendering: optimizeLegibility\; color: rgb(34\, 34\, 34)\;">&ldquo\;People are already getting on the reservation list for the new building\,&rdquo\; said Redevelopment Community Relations Director Rob Lanouette. &ldquo\;There is a lot of excitement for the new building and the choices it will offer for amenities.&rdquo\;</p>\n\n<p style="box-sizing: border-box\; margin: 0px 0px 1.25rem\; padding: 0px\; font-family: &quot\;Open Sans&quot\;\, &quot\;Helvetica Neue&quot\;\, Helvetica\, Helvetica\, Arial\, sans-serif\; font-size: 1.1rem\; line-height: 1.8\; text-rendering: optimizeLegibility\; color: rgb(34\, 34\, 34)\;">Now you have a chance to explore the new Wesley Homes with friends and family by joining us for an Oktoberfest-themed open house! Enjoy a Bavarian spread and take a self-guided tour of Wesley&rsquo\;s brand new Cottage homes and renovated social areas in The Terrace\, including the Creative Arts Studio and Rainier Bistro.</p>\n\n<p style="box-sizing: border-box\; margin: 0px 0px 1.25rem\; padding: 0px\; font-family: &quot\;Open Sans&quot\;\, &quot\;Helvetica Neue&quot\;\, Helvetica\, Helvetica\, Arial\, sans-serif\; font-size: 1.1rem\; line-height: 1.8\; text-rendering: optimizeLegibility\; color: rgb(34\, 34\, 34)\;">Be the first to know what&rsquo\;s coming next. This event is the perfect opportunity to learn about everything going on at Wesley Homes\, including the redevelopment in Des Moines\, the new Wesley Homes Bradley Park campus in Puyallup and plans for a Wesley campus in the Fairwood/Renton community.</p>\n\n<p style="box-sizing: border-box\; margin: 0px 0px 1.25rem\; padding: 0px\; font-family: &quot\;Open Sans&quot\;\, &quot\;Helvetica Neue&quot\;\, Helvetica\, Helvetica\, Arial\, sans-serif\; font-size: 1.1rem\; line-height: 1.8\; text-rendering: optimizeLegibility\; color: rgb(34\, 34\, 34)\;">Complete a self-guided tour passport during the event\, and be entered to&nbsp\;<span style="box-sizing: border-box\; font-weight: 700\; line-height: inherit\;">win a trip to Leavenworth valued at $500!</span></p>\n\n<p style="box-sizing: border-box\; margin: 0px 0px 1.25rem\; padding: 0px\; font-family: &quot\;Open Sans&quot\;\, &quot\;Helvetica Neue&quot\;\, Helvetica\, Helvetica\, Arial\, sans-serif\; font-size: 1.1rem\; line-height: 1.8\; text-rendering: optimizeLegibility\; color: rgb(34\, 34\, 34)\;">See you at the Wesley Homes Oktoberfest Open House!</p>\n\n<p style="box-sizing: border-box\; margin: 0px 0px 1.25rem\; padding: 0px\; font-family: &quot\;Open Sans&quot\;\, &quot\;Helvetica Neue&quot\;\, Helvetica\, Helvetica\, Arial\, sans-serif\; font-size: 1.1rem\; line-height: 1.8\; text-rendering: optimizeLegibility\; text-align: center\; color: rgb(128\, 128\, 128)\;"><span style="box-sizing: border-box\; font-weight: 700\; line-height: inherit\;">When</span>:&nbsp\;Sunday\, October 1\, 1:30-4:00 p.m.</p>\n\n<p style="box-sizing: border-box\; margin: 0px 0px 1.25rem\; padding: 0px\; font-family: &quot\;Open Sans&quot\;\, &quot\;Helvetica Neue&quot\;\, Helvetica\, Helvetica\, Arial\, sans-serif\; font-size: 1.1rem\; line-height: 1.8\; text-rendering: optimizeLegibility\; text-align: center\; color: rgb(128\, 128\, 128)\;"><span style="box-sizing: border-box\; font-weight: 700\; line-height: inherit\;">Where</span>:&nbsp\;Wesley Homes Des Moines<br style="box-sizing: border-box\;" />\n816 S. 216th Street\, Des Moines\, WA 98198</p>\n\n<h4 style="box-sizing: border-box\; margin: 0.2rem 0px 1rem\; padding: 0px\; font-family: &quot\;Open Sans&quot\;\, &quot\;Helvetica Neue&quot\;\, Helvetica\, Helvetica\, Arial\, sans-serif\; color: rgb(0\, 128\, 142)\; text-rendering: optimizeLegibility\; line-height: 1.1\; font-size: 1.25rem\;"><span style="box-sizing: border-box\; font-weight: 700\; line-height: inherit\;">RSVP for the open house on their website or&nbsp\;call 206.824.5000</span></h4>\n
LOCATION:Wesley Homes Des Moines 816 S. 216th Street\, Des Moines\, WA 98198
UID:e.2591.992
SEQUENCE:3
DTSTAMP:20260425T154029Z
URL:http://seattlesouthsidechamber.com/events/details/oktoberfest-open-house-wesley-homes-992
END:VEVENT

END:VCALENDAR
