BEGIN:VCALENDAR
VERSION:2.0
PRODID:-//ChamberMaster//Event Calendar 2.0//EN
METHOD:PUBLISH
X-PUBLISHED-TTL:P3D
REFRESH-INTERVAL:P3D
CALSCALE:GREGORIAN
BEGIN:VEVENT
DTSTART:20180928T010000Z
DTEND:20180928T040000Z
X-MICROSOFT-CDO-ALLDAYEVENT:FALSE
SUMMARY:Oktoberfest Dinner with Odin Brewing Company at the Hotel Interurban
DESCRIPTION:Prost! Join Odin Brewing Co. at Hotel Interurban's Waterleaf Restaurant & Bar for a hearty Oktoberfest meal.Enjoy a Bavarian five-course meal\, including Grilled Weisswurst and Heritage Pork "Schweinshaxe". Each course will be paired with a delicious beer to make you feel like you're at the festivities in Munich.
X-ALT-DESC;FMTTYPE=text/html:<span style="box-sizing: border-box\; display: inline-block\; color: rgb(77\, 77\, 77)\; font-family: Neuton\, sans-serif\; font-size: 15px\; letter-spacing: 0.16px\;">Prost! Join Odin Brewing Co. at Hotel Interurban&#39\;s Waterleaf Restaurant &amp\; Bar for a hearty Oktoberfest meal.</span><span style="box-sizing: border-box\; display: inline-block\; color: rgb(77\, 77\, 77)\; font-family: Neuton\, sans-serif\; font-size: 15px\; letter-spacing: 0.16px\;">Enjoy a Bavarian five-course meal\, including Grilled Weisswurst and Heritage Pork &quot\;Schweinshaxe&quot\;. Each course will be paired with a delicious beer to make you feel like you&rsquo\;re at the festivities in Munich.</span>
LOCATION:Hotel Interurban 223 Andover Park E Tukwila\, WA 98188
UID:e.2591.2518
SEQUENCE:3
DTSTAMP:20260424T204413Z
URL:http://seattlesouthsidechamber.com/events/details/oktoberfest-dinner-with-odin-brewing-company-at-the-hotel-interurban-2518
END:VEVENT

END:VCALENDAR
