BEGIN:VCALENDAR
VERSION:2.0
PRODID:-//ChamberMaster//Event Calendar 2.0//EN
METHOD:PUBLISH
X-PUBLISHED-TTL:P3D
REFRESH-INTERVAL:P3D
CALSCALE:GREGORIAN
BEGIN:VEVENT
DTSTART:20181020T003000Z
DTEND:20181020T040000Z
X-MICROSOFT-CDO-ALLDAYEVENT:FALSE
SUMMARY:Oktoberfest Dinner & Auction-Highline Schools Foundation
DESCRIPTION:Oktoberfest at the Normandy Park Cove!\n\n			\n\n			You are invited to the best party and fundraiser in town!  \n\n			 \n\n			Oktoberfest is a German Beer Hall Style party with food from The Tin Room\, drinks by Georgetown Brewing\, live entertainment\, a great auction and of course\, a few surprises!\n\n			\n\n			Have a great time while benefiting students and programs in Highline Public Schools!\n\n			\n\n			Don't miss this great celebration of our community! Doors open at 5:30 with happy hour drink specials until 6:15!\n\n			This year's auction includes plenty of items you need and want -- like unrestricted passes wherever Alaska Airlines flies\, theatre tickets\, dinners out\, home decor\, jewelry\, and more!\n\n			Prost!
X-ALT-DESC;FMTTYPE=text/html:<table border="0" cellpadding="0" cellspacing="0">\n	<tbody>\n		<tr>\n			<td>Oktoberfest at the Normandy Park Cove!<br />\n			<br />\n			You are invited to the best party and fundraiser in town! &nbsp\;<br />\n			&nbsp\;<br />\n			Oktoberfest is a German Beer Hall Style party with food from <a href="http://r20.rs6.net/tn.jsp?f=001VDaaX68h_tByxsrJ1CoS7eD5Iuw_9jeTTOfG4oIw0ZFFhrLdj15_S4JmLSTrGk060Ucx6x8JbidTR4RbLL5a2Ad0IWSwL-wvo35jpoVGvICkpirRRhsniFJMgiQsCLVzAHmFMeWrgzO9eawwhxEC7wBcNkL4oDH9CY_RcaMCkcTkM2c6j6_oUw==&amp\;c=MBldeCx7rrL1o4J_i3YMFAH00DoSfOMIlph7zx5Wy2G6saRQS02znw==&amp\;ch=7V43otC9yq9UNYmsl3cBE95L6-ICXfosqtp5X0ZUU07Vv73Jf1jYzQ==" target="_blank">The Tin Room</a>\, drinks by <a href="http://r20.rs6.net/tn.jsp?f=001VDaaX68h_tByxsrJ1CoS7eD5Iuw_9jeTTOfG4oIw0ZFFhrLdj15_S8vljwatf47-DBQ-alRxzyYUdxe2Ti6lsnRik9FkqFkoh0YSLnHoUYpJLd1G6ISpX3cEMCp4YtS4cOQ4gGRoPQXQfqgvr_Uf0pcIIeNIRZBYAwl6jQeW9LcCTgpeDNOmOQ==&amp\;c=MBldeCx7rrL1o4J_i3YMFAH00DoSfOMIlph7zx5Wy2G6saRQS02znw==&amp\;ch=7V43otC9yq9UNYmsl3cBE95L6-ICXfosqtp5X0ZUU07Vv73Jf1jYzQ==" target="_blank">Georgetown Brewing</a>\, live entertainment\, a great auction and of course\, a few surprises!<br />\n			<br />\n			Have a great time while benefiting students and programs in Highline Public Schools!<br />\n			<br />\n			Don&#39\;t miss this great&nbsp\;celebration of our community! Doors open at 5:30 with happy hour drink specials until 6:15!<br />\n			This year&#39\;s auction includes plenty of items you need and want -- like unrestricted passes wherever Alaska Airlines flies\, theatre tickets\, dinners out\, home decor\, jewelry\, and more!<br />\n			Prost!</td>\n		</tr>\n	</tbody>\n</table>\n
LOCATION:Normandy Park Cove 1500 SW Shorebrook Drive\, Normandy Park\, WA 98166
UID:e.2591.2352
SEQUENCE:3
DTSTAMP:20260424T203116Z
URL:http://seattlesouthsidechamber.com/events/details/oktoberfest-dinner-auction-highline-schools-foundation-2352
END:VEVENT

END:VCALENDAR
