BEGIN:VCALENDAR
VERSION:2.0
PRODID:-//ChamberMaster//Event Calendar 2.0//EN
METHOD:PUBLISH
X-PUBLISHED-TTL:P3D
REFRESH-INTERVAL:P3D
CALSCALE:GREGORIAN
BEGIN:VEVENT
DTSTART:20181024T220000Z
DTEND:20181025T010000Z
X-MICROSOFT-CDO-ALLDAYEVENT:FALSE
SUMMARY:Oktoberfest at Normandy Park Senior Living
DESCRIPTION:Join Normandy Senior Living for a classic Oktoberfest.\n\nEnjoy live entertainment with traditional German fare like Bratwurst\, Polish Kielbase\, Pretzels\, Potatoes\, Beet Salad\, Sauerkraut and Apple Strudel. There will be selection of Craft Beers\, Rootbeer Floats and Hot Apple Cider.
X-ALT-DESC;FMTTYPE=text/html:Join Normandy Senior Living for a classic Oktoberfest.<br />\nEnjoy live entertainment with traditional German fare like Bratwurst\, Polish Kielbase\, Pretzels\, Potatoes\, Beet Salad\, Sauerkraut and Apple Strudel. There will be selection of Craft Beers\, Rootbeer Floats and Hot Apple Cider.
LOCATION:Normandy Park Senior Living 16625 1st Ave S Normandy Park\, WA 98148
UID:e.2591.2575
SEQUENCE:3
DTSTAMP:20260424T185544Z
URL:http://seattlesouthsidechamber.com/events/details/oktoberfest-at-normandy-park-senior-living-2575
END:VEVENT

END:VCALENDAR
