BEGIN:VCALENDAR
VERSION:2.0
PRODID:-//ChamberMaster//Event Calendar 2.0//EN
METHOD:PUBLISH
X-PUBLISHED-TTL:P3D
REFRESH-INTERVAL:P3D
CALSCALE:GREGORIAN
BEGIN:VEVENT
DTSTART:20181025T023000Z
DTEND:20181025T043000Z
X-MICROSOFT-CDO-ALLDAYEVENT:FALSE
SUMMARY:NWSO and Washington's National Park Fund at Benaroya Hall
DESCRIPTION:Northwest Symphony Orchestra and Washington's National Park Fund \n\nA spectacular musical and visual presentation including the Northwest Symphony Orchestra performing the New World Symphony by Dvorak to stunning visuals from Washington's National Parks and National Parks across America.  Visual choreography is provided by well know local artist Adrian Wyard.  This concert is the 25th Anniversary Celebration of Washington's National Park Fund.\n\nThe concert also features a mass choir singing America the Beautiful with the Northwest Symphony Orchestra and a visit from the Musical Mountaineers- as featured on KOMO 4 and KING 5 television.
X-ALT-DESC;FMTTYPE=text/html:<p>Northwest Symphony Orchestra and Washington&#39\;s National Park Fund&nbsp\;</p>\n\n<p>A spectacular musical and visual presentation including the Northwest Symphony Orchestra performing the New World Symphony by Dvorak to stunning visuals from Washington&#39\;s National Parks and National Parks across America.&nbsp\; Visual choreography is provided by well know local artist Adrian Wyard.&nbsp\; This concert is the 25th Anniversary Celebration of Washington&#39\;s National Park Fund.</p>\n\n<p>The concert also features a mass choir singing America the Beautiful with the Northwest Symphony Orchestra and a visit from the Musical Mountaineers- as featured on KOMO 4 and KING 5 television.</p>\n
LOCATION:Benaroya Hall 200 University St\, Seattle\, WA 98101
UID:e.2591.2355
SEQUENCE:3
DTSTAMP:20260424T185657Z
URL:http://seattlesouthsidechamber.com/events/details/nwso-and-washington-s-national-park-fund-at-benaroya-hall-2355
END:VEVENT

END:VCALENDAR
