BEGIN:VCALENDAR
VERSION:2.0
PRODID:-//ChamberMaster//Event Calendar 2.0//EN
METHOD:PUBLISH
X-PUBLISHED-TTL:P3D
REFRESH-INTERVAL:P3D
CALSCALE:GREGORIAN
BEGIN:VEVENT
DTSTART:20170211T033000Z
DTEND:20170211T050000Z
X-MICROSOFT-CDO-ALLDAYEVENT:FALSE
SUMMARY:Northwest Symphony Orchestra Valentine's Concert
DESCRIPTION:Join the Northwest Symphony for their Valentine's Concert on February 10th. They'll be performing:\n\n\n\nAnniversary Overture\, Roger Treece *\n\nPiano Concerto #1\, Pyotr Ilyich Tchaikovsky\n\n     soloist Sown Le Choi \n\nSymphony #4\, Ludwig van Beethoven
X-ALT-DESC;FMTTYPE=text/html:<strong style="color: rgb(0\, 0\, 0)\; font-family: Tahoma\, Verdana\, Arial\; font-size: 12px\;">Join&nbsp\;the Northwest Symphony for their Valentine&#39\;s Concert on February 10th. They&#39\;ll be performing:<br />\n<br />\nAnniversary Overture</strong><span style="color: rgb(0\, 0\, 0)\; font-family: Tahoma\, Verdana\, Arial\; font-size: 12px\;">\,&nbsp\;</span><em style="color: rgb(0\, 0\, 0)\; font-family: Tahoma\, Verdana\, Arial\; font-size: 12px\;">Roger Treece</em><span style="color: rgb(0\, 0\, 0)\; font-family: Tahoma\, Verdana\, Arial\; font-size: 12px\;">&nbsp\;*</span><br style="color: rgb(0\, 0\, 0)\; font-family: Tahoma\, Verdana\, Arial\; font-size: 12px\;" />\n<strong style="color: rgb(0\, 0\, 0)\; font-family: Tahoma\, Verdana\, Arial\; font-size: 12px\;">Piano Concerto #1</strong><span style="color: rgb(0\, 0\, 0)\; font-family: Tahoma\, Verdana\, Arial\; font-size: 12px\;">\,&nbsp\;</span><em style="color: rgb(0\, 0\, 0)\; font-family: Tahoma\, Verdana\, Arial\; font-size: 12px\;">Pyotr Ilyich Tchaikovsky</em><br style="color: rgb(0\, 0\, 0)\; font-family: Tahoma\, Verdana\, Arial\; font-size: 12px\;" />\n<span style="color: rgb(0\, 0\, 0)\; font-family: Tahoma\, Verdana\, Arial\; font-size: 12px\;">&nbsp\;&nbsp\;&nbsp\;&nbsp\;&nbsp\;soloist Sown Le Choi&nbsp\;</span><br style="color: rgb(0\, 0\, 0)\; font-family: Tahoma\, Verdana\, Arial\; font-size: 12px\;" />\n<strong style="color: rgb(0\, 0\, 0)\; font-family: Tahoma\, Verdana\, Arial\; font-size: 12px\;">Symphony #4</strong><span style="color: rgb(0\, 0\, 0)\; font-family: Tahoma\, Verdana\, Arial\; font-size: 12px\;">\,&nbsp\;</span><em style="color: rgb(0\, 0\, 0)\; font-family: Tahoma\, Verdana\, Arial\; font-size: 12px\;">Ludwig van Beethoven</em>
LOCATION:Highline Performing Arts Center 401 South 152nd Street in Burien
UID:e.2591.560
SEQUENCE:3
DTSTAMP:20260426T041528Z
URL:http://seattlesouthsidechamber.com/events/details/northwest-symphony-orchestra-valentine-s-concert-560
END:VEVENT

END:VCALENDAR
