BEGIN:VCALENDAR
VERSION:2.0
PRODID:-//ChamberMaster//Event Calendar 2.0//EN
METHOD:PUBLISH
X-PUBLISHED-TTL:P3D
REFRESH-INTERVAL:P3D
CALSCALE:GREGORIAN
BEGIN:VEVENT
DTSTART:20181020T023000Z
DTEND:20181020T043000Z
X-MICROSOFT-CDO-ALLDAYEVENT:FALSE
SUMMARY:Northwest Symphony Orchestra-Season Opener-Family Concert
DESCRIPTION:"Family Concert"- at Federal Way Performing Arts and Events Center\n\nSymphony No. 9 (New World) - Antonin Dvorak with West Coast Premiere of Visuals of National Parks by Adrian Wyard\n\nEntry of the Gods into Vahalla - Richard Wagner\n\nForestia - Brent Irwin (World Premiere)\n\nAmerica the Beautiful\, with Student Choirs from Highline and Federal Way School Districts
X-ALT-DESC;FMTTYPE=text/html:<p><strong>&ldquo\;Family Concert&rdquo\;- at Federal Way Performing Arts and Events Center</strong><br />\nSymphony No. 9 (New World) -&nbsp\;Antonin Dvorak with West Coast Premiere of Visuals of National Parks by<span style="color:#000000\;">&nbsp\;Adrian Wyard</span><br />\nEntry of the Gods into Vahalla -&nbsp\;Richard Wagner<br />\nForestia - Brent Irwin (World Premiere)<br />\nAmerica the Beautiful\, with Student Choirs from Highline and Federal Way School Districts</p>\n
LOCATION:Federal Way Performing Arts Center31510 Pete von Reichbauer Way South Federal Way\, WA\, 98003
UID:e.2591.2354
SEQUENCE:3
DTSTAMP:20260424T185919Z
URL:http://seattlesouthsidechamber.com/events/details/northwest-symphony-orchestra-season-opener-family-concert-2354
END:VEVENT

END:VCALENDAR
