BEGIN:VCALENDAR
VERSION:2.0
PRODID:-//ChamberMaster//Event Calendar 2.0//EN
METHOD:PUBLISH
X-PUBLISHED-TTL:P3D
REFRESH-INTERVAL:P3D
CALSCALE:GREGORIAN
BEGIN:VEVENT
DTSTART:20181111T190000Z
DTEND:20181111T210000Z
X-MICROSOFT-CDO-ALLDAYEVENT:FALSE
SUMMARY:Normandy Park Senior Living Veteran's Day Appreciation Brunch
DESCRIPTION:Enjoy a delicious Veteran's Day Appreciation Brunch at Normandy Park Senior Living
X-ALT-DESC;FMTTYPE=text/html:Enjoy a delicious Veteran&#39\;s Day Appreciation Brunch at Normandy Park Senior Living
LOCATION:Normandy Park Senior Living 16625 1st Ave S Normandy Park\, WA 98148
UID:e.2591.2578
SEQUENCE:3
DTSTAMP:20260424T173428Z
URL:http://seattlesouthsidechamber.com/events/details/normandy-park-senior-living-veteran-s-day-appreciation-brunch-2578
END:VEVENT

END:VCALENDAR
