BEGIN:VCALENDAR
VERSION:2.0
PRODID:-//ChamberMaster//Event Calendar 2.0//EN
METHOD:PUBLISH
X-PUBLISHED-TTL:P3D
REFRESH-INTERVAL:P3D
CALSCALE:GREGORIAN
BEGIN:VEVENT
DTSTART:20180909T180000Z
DTEND:20180909T210000Z
X-MICROSOFT-CDO-ALLDAYEVENT:FALSE
SUMMARY:Normandy Park Senior Living End of Summer Picnic
DESCRIPTION:Join us at Normandy Park in saying farewell to summer! Enjoy a BBQ picnic lunch featuring pulled pork\, hotdogs\, potato salad\, corn\, watermelon\, baked beans\, green salad\, and fresh lemonade. Plus: cotton candy machine\, shaved ice machine\, & old fashioned cocktails.\n\nFamilies encouraged to attend.\n\nDon't miss the beautiful motorcycles on display\, thanks to the Christian Motorcyclists Association!
X-ALT-DESC;FMTTYPE=text/html:Join us at Normandy Park in saying farewell to summer! Enjoy a BBQ picnic lunch featuring pulled pork\, hotdogs\, potato salad\, corn\, watermelon\, baked beans\, green salad\, and fresh lemonade. Plus: cotton candy machine\, shaved ice machine\, &amp\; old fashioned cocktails.<br />\nFamilies encouraged to attend.<br />\nDon&#39\;t miss the beautiful motorcycles on display\, thanks to the Christian Motorcyclists Association!
LOCATION:Normandy Park Senior Living 16625 1st Ave. S\, Normandy Park\, WA 98148
UID:e.2591.2496
SEQUENCE:3
DTSTAMP:20260424T204321Z
URL:http://seattlesouthsidechamber.com/events/details/normandy-park-senior-living-end-of-summer-picnic-2496
END:VEVENT

END:VCALENDAR
