BEGIN:VCALENDAR
VERSION:2.0
PRODID:-//ChamberMaster//Event Calendar 2.0//EN
METHOD:PUBLISH
X-PUBLISHED-TTL:P3D
REFRESH-INTERVAL:P3D
CALSCALE:GREGORIAN
BEGIN:VEVENT
DTSTART:20181014T180000Z
DTEND:20181014T200000Z
X-MICROSOFT-CDO-ALLDAYEVENT:FALSE
SUMMARY:Normandy Park Senior Living Brunch
DESCRIPTION:Enjoy a delicious Sunday brunch at Normandy Park Senior Living
X-ALT-DESC;FMTTYPE=text/html:Enjoy a delicious Sunday brunch at Normandy Park Senior Living
LOCATION:Normandy Park Senior Living 16625 1st Ave S Normandy Park\, WA 98148
UID:e.2591.2577
SEQUENCE:3
DTSTAMP:20260424T185347Z
URL:http://seattlesouthsidechamber.com/events/details/normandy-park-senior-living-brunch-2577
END:VEVENT

END:VCALENDAR
